BEGIN:VCALENDAR
VERSION:2.0
PRODID:-//Jenny&#039;s Sewing Studio - ECPv6.15.20//NONSGML v1.0//EN
CALSCALE:GREGORIAN
METHOD:PUBLISH
X-ORIGINAL-URL:https://jennys-sewing-studio.com
X-WR-CALDESC:Events for Jenny&#039;s Sewing Studio
REFRESH-INTERVAL;VALUE=DURATION:PT1H
X-Robots-Tag:noindex
X-PUBLISHED-TTL:PT1H
BEGIN:VTIMEZONE
TZID:America/New_York
BEGIN:DAYLIGHT
TZOFFSETFROM:-0500
TZOFFSETTO:-0400
TZNAME:EDT
DTSTART:20150308T070000
END:DAYLIGHT
BEGIN:STANDARD
TZOFFSETFROM:-0400
TZOFFSETTO:-0500
TZNAME:EST
DTSTART:20151101T060000
END:STANDARD
BEGIN:DAYLIGHT
TZOFFSETFROM:-0500
TZOFFSETTO:-0400
TZNAME:EDT
DTSTART:20160313T070000
END:DAYLIGHT
BEGIN:STANDARD
TZOFFSETFROM:-0400
TZOFFSETTO:-0500
TZNAME:EST
DTSTART:20161106T060000
END:STANDARD
BEGIN:DAYLIGHT
TZOFFSETFROM:-0500
TZOFFSETTO:-0400
TZNAME:EDT
DTSTART:20170312T070000
END:DAYLIGHT
BEGIN:STANDARD
TZOFFSETFROM:-0400
TZOFFSETTO:-0500
TZNAME:EST
DTSTART:20171105T060000
END:STANDARD
END:VTIMEZONE
BEGIN:VEVENT
DTSTART;TZID=America/New_York:20160331T023000
DTEND;TZID=America/New_York:20160331T153000
DTSTAMP:20260420T121444
CREATED:20160330T225227Z
LAST-MODIFIED:20160330T225227Z
UID:7076-1459391400-1459438200@jennys-sewing-studio.com
SUMMARY:Holly - one hour continue sew
DESCRIPTION:Holly – one hour continue sew \nShare this:\n				Email a link to a friend (Opens in new window)\n				Email\n			\n				Print (Opens in new window)\n				Print\n			TweetLike this:Like Loading...
URL:https://jennys-sewing-studio.com/event/holly-one-hour-continue-sew/
CATEGORIES:continue sewing
END:VEVENT
BEGIN:VEVENT
DTSTART;TZID=America/New_York:20160316T013000
DTEND;TZID=America/New_York:20160316T170000
DTSTAMP:20260420T121444
CREATED:20160303T223438Z
LAST-MODIFIED:20160303T224228Z
UID:6923-1458091800-1458147600@jennys-sewing-studio.com
SUMMARY:Debbie Poole - continue sew - apron finish
DESCRIPTION:3 hour continue sew \nShare this:\n				Email a link to a friend (Opens in new window)\n				Email\n			\n				Print (Opens in new window)\n				Print\n			TweetLike this:Like Loading...
URL:https://jennys-sewing-studio.com/event/donna-poole/
CATEGORIES:continue sewing
END:VEVENT
BEGIN:VEVENT
DTSTART;VALUE=DATE:20160307
DTEND;VALUE=DATE:20160308
DTSTAMP:20260420T121444
CREATED:20160302T204915Z
LAST-MODIFIED:20160303T204801Z
UID:6921-1457308800-1457395199@jennys-sewing-studio.com
SUMMARY:Holly Young sewing class
DESCRIPTION:Holly Young sewing class \nShare this:\n				Email a link to a friend (Opens in new window)\n				Email\n			\n				Print (Opens in new window)\n				Print\n			TweetLike this:Like Loading...
URL:https://jennys-sewing-studio.com/event/holly-young-sewing-class/
CATEGORIES:continue sewing
END:VEVENT
END:VCALENDAR