BEGIN:VCALENDAR
VERSION:2.0
PRODID:-//Jenny&#039;s Sewing Studio - ECPv6.15.20//NONSGML v1.0//EN
CALSCALE:GREGORIAN
METHOD:PUBLISH
X-WR-CALNAME:Jenny&#039;s Sewing Studio
X-ORIGINAL-URL:https://jennys-sewing-studio.com
X-WR-CALDESC:Events for Jenny&#039;s Sewing Studio
REFRESH-INTERVAL;VALUE=DURATION:PT1H
X-Robots-Tag:noindex
X-PUBLISHED-TTL:PT1H
BEGIN:VTIMEZONE
TZID:America/New_York
BEGIN:DAYLIGHT
TZOFFSETFROM:-0500
TZOFFSETTO:-0400
TZNAME:EDT
DTSTART:20170312T070000
END:DAYLIGHT
BEGIN:STANDARD
TZOFFSETFROM:-0400
TZOFFSETTO:-0500
TZNAME:EST
DTSTART:20171105T060000
END:STANDARD
BEGIN:DAYLIGHT
TZOFFSETFROM:-0500
TZOFFSETTO:-0400
TZNAME:EDT
DTSTART:20180311T070000
END:DAYLIGHT
BEGIN:STANDARD
TZOFFSETFROM:-0400
TZOFFSETTO:-0500
TZNAME:EST
DTSTART:20181104T060000
END:STANDARD
BEGIN:DAYLIGHT
TZOFFSETFROM:-0500
TZOFFSETTO:-0400
TZNAME:EDT
DTSTART:20190310T070000
END:DAYLIGHT
BEGIN:STANDARD
TZOFFSETFROM:-0400
TZOFFSETTO:-0500
TZNAME:EST
DTSTART:20191103T060000
END:STANDARD
END:VTIMEZONE
BEGIN:VEVENT
DTSTART;TZID=America/New_York:20180219T120000
DTEND;TZID=America/New_York:20180219T170000
DTSTAMP:20260420T080733
CREATED:20180205T204817Z
LAST-MODIFIED:20180205T204913Z
UID:9423-1519041600-1519059600@jennys-sewing-studio.com
SUMMARY:Viertl
DESCRIPTION:Viertl \nShare this:\n				Email a link to a friend (Opens in new window)\n				Email\n			\n				Print (Opens in new window)\n				Print\n			TweetLike this:Like Loading...
URL:https://jennys-sewing-studio.com/event/vertiel-5/
CATEGORIES:Doctors
END:VEVENT
BEGIN:VEVENT
DTSTART;TZID=America/New_York:20180129T105000
DTEND;TZID=America/New_York:20180129T120000
DTSTAMP:20260420T080733
CREATED:20180122T222117Z
LAST-MODIFIED:20180122T222236Z
UID:9347-1517223000-1517227200@jennys-sewing-studio.com
SUMMARY:Dr Tu
DESCRIPTION:Dr Tu \nShare this:\n				Email a link to a friend (Opens in new window)\n				Email\n			\n				Print (Opens in new window)\n				Print\n			TweetLike this:Like Loading...
URL:https://jennys-sewing-studio.com/event/dr-tu-2/
CATEGORIES:Doctors
END:VEVENT
BEGIN:VEVENT
DTSTART;TZID=America/New_York:20180123T075000
DTEND;TZID=America/New_York:20180123T120000
DTSTAMP:20260420T080733
CREATED:20171230T163212Z
LAST-MODIFIED:20180122T222416Z
UID:9264-1516693800-1516708800@jennys-sewing-studio.com
SUMMARY:Eye Surgery -TU
DESCRIPTION:Eye Surgery -TU followup \nShare this:\n				Email a link to a friend (Opens in new window)\n				Email\n			\n				Print (Opens in new window)\n				Print\n			TweetLike this:Like Loading...
URL:https://jennys-sewing-studio.com/event/eye-surgery-tu-2/
CATEGORIES:Doctors
END:VEVENT
END:VCALENDAR