BEGIN:VCALENDAR
VERSION:2.0
PRODID:-//Jenny&#039;s Sewing Studio - ECPv6.15.20//NONSGML v1.0//EN
CALSCALE:GREGORIAN
METHOD:PUBLISH
X-ORIGINAL-URL:https://jennys-sewing-studio.com
X-WR-CALDESC:Events for Jenny&#039;s Sewing Studio
REFRESH-INTERVAL;VALUE=DURATION:PT1H
X-Robots-Tag:noindex
X-PUBLISHED-TTL:PT1H
BEGIN:VTIMEZONE
TZID:America/New_York
BEGIN:DAYLIGHT
TZOFFSETFROM:-0500
TZOFFSETTO:-0400
TZNAME:EDT
DTSTART:20150308T070000
END:DAYLIGHT
BEGIN:STANDARD
TZOFFSETFROM:-0400
TZOFFSETTO:-0500
TZNAME:EST
DTSTART:20151101T060000
END:STANDARD
BEGIN:DAYLIGHT
TZOFFSETFROM:-0500
TZOFFSETTO:-0400
TZNAME:EDT
DTSTART:20160313T070000
END:DAYLIGHT
BEGIN:STANDARD
TZOFFSETFROM:-0400
TZOFFSETTO:-0500
TZNAME:EST
DTSTART:20161106T060000
END:STANDARD
BEGIN:DAYLIGHT
TZOFFSETFROM:-0500
TZOFFSETTO:-0400
TZNAME:EDT
DTSTART:20170312T070000
END:DAYLIGHT
BEGIN:STANDARD
TZOFFSETFROM:-0400
TZOFFSETTO:-0500
TZNAME:EST
DTSTART:20171105T060000
END:STANDARD
END:VTIMEZONE
BEGIN:VEVENT
DTSTART;TZID=America/New_York:20160804T013000
DTEND;TZID=America/New_York:20160804T170000
DTSTAMP:20260420T151543
CREATED:20160719T222824Z
LAST-MODIFIED:20160804T001048Z
UID:7430-1470274200-1470330000@jennys-sewing-studio.com
SUMMARY:Beginning Sewing - Rhiannon
DESCRIPTION:Beginning Sewing – Rhiannon  for 2 -3 hour sessions \nShare this:\n				Email a link to a friend (Opens in new window)\n				Email\n			\n				Print (Opens in new window)\n				Print\n			TweetLike this:Like Loading...
URL:https://jennys-sewing-studio.com/event/beginning-sewing-rhianna-2/
CATEGORIES:Beginner Sewing Class
END:VEVENT
BEGIN:VEVENT
DTSTART;TZID=America/New_York:20160728T013000
DTEND;TZID=America/New_York:20160728T163000
DTSTAMP:20260420T151543
CREATED:20160719T222551Z
LAST-MODIFIED:20160719T222551Z
UID:7428-1469669400-1469723400@jennys-sewing-studio.com
SUMMARY:Beginning Sewing - Rhianna
DESCRIPTION:Beginning Sewing – Rhianna  for 2 -3 hour sessions \nShare this:\n				Email a link to a friend (Opens in new window)\n				Email\n			\n				Print (Opens in new window)\n				Print\n			TweetLike this:Like Loading...
URL:https://jennys-sewing-studio.com/event/beginning-sewing-rhianna/
CATEGORIES:Beginner Sewing Class
END:VEVENT
BEGIN:VEVENT
DTSTART;TZID=America/New_York:20160705T013000
DTEND;TZID=America/New_York:20160705T153000
DTSTAMP:20260420T151543
CREATED:20160625T130320Z
LAST-MODIFIED:20160625T130320Z
UID:7401-1467682200-1467732600@jennys-sewing-studio.com
SUMMARY:Chris    beginner sewer
DESCRIPTION:Chris beginner sewer \nShare this:\n				Email a link to a friend (Opens in new window)\n				Email\n			\n				Print (Opens in new window)\n				Print\n			TweetLike this:Like Loading...
URL:https://jennys-sewing-studio.com/event/chris-beginner-sewer-2/
CATEGORIES:Beginner Sewing Class
END:VEVENT
BEGIN:VEVENT
DTSTART;TZID=America/New_York:20160628T013000
DTEND;TZID=America/New_York:20160628T153000
DTSTAMP:20260420T151543
CREATED:20160625T130139Z
LAST-MODIFIED:20160625T130139Z
UID:7400-1467077400-1467127800@jennys-sewing-studio.com
SUMMARY:Chris    beginner sewer
DESCRIPTION:Chris beginner sewer \nShare this:\n				Email a link to a friend (Opens in new window)\n				Email\n			\n				Print (Opens in new window)\n				Print\n			TweetLike this:Like Loading...
URL:https://jennys-sewing-studio.com/event/chris-beginner-sewer/
CATEGORIES:Beginner Sewing Class
END:VEVENT
BEGIN:VEVENT
DTSTART;TZID=America/New_York:20160430T080000
DTEND;TZID=America/New_York:20160430T170000
DTSTAMP:20260420T151543
CREATED:20160321T165347Z
LAST-MODIFIED:20160331T224638Z
UID:7064-1462003200-1462035600@jennys-sewing-studio.com
SUMMARY:Clarice and Elizabeth for Beginner sewing
DESCRIPTION:Clarice for Beginner sewing \nShare this:\n				Email a link to a friend (Opens in new window)\n				Email\n			\n				Print (Opens in new window)\n				Print\n			TweetLike this:Like Loading...
URL:https://jennys-sewing-studio.com/event/clarice-beginner-sewing-3/
CATEGORIES:Beginner Sewing Class
END:VEVENT
BEGIN:VEVENT
DTSTART;VALUE=DATE:20160416
DTEND;VALUE=DATE:20160417
DTSTAMP:20260420T151543
CREATED:20160321T165056Z
LAST-MODIFIED:20160331T224759Z
UID:7062-1460764800-1460851199@jennys-sewing-studio.com
SUMMARY:Clarice and  Elizabeth for Beginner sewing
DESCRIPTION:Clarice for Beginner sewing \nShare this:\n				Email a link to a friend (Opens in new window)\n				Email\n			\n				Print (Opens in new window)\n				Print\n			TweetLike this:Like Loading...
URL:https://jennys-sewing-studio.com/event/clarice-beginner-sewing/
CATEGORIES:Beginner Sewing Class
END:VEVENT
BEGIN:VEVENT
DTSTART;TZID=America/New_York:20160317T133000
DTEND;TZID=America/New_York:20160317T163000
DTSTAMP:20260420T151543
CREATED:20160304T143225Z
LAST-MODIFIED:20160304T143225Z
UID:6929-1458221400-1458232200@jennys-sewing-studio.com
SUMMARY:Anna Ornelas- Beginner sewing
DESCRIPTION:Anna Ornelas- Beginner sewing \nShare this:\n				Email a link to a friend (Opens in new window)\n				Email\n			\n				Print (Opens in new window)\n				Print\n			TweetLike this:Like Loading...
URL:https://jennys-sewing-studio.com/event/anna-ornelas-beginner-sewing/
CATEGORIES:Beginner Sewing Class
END:VEVENT
BEGIN:VEVENT
DTSTART;TZID=America/New_York:20160123T133000
DTEND;TZID=America/New_York:20160123T163000
DTSTAMP:20260420T151543
CREATED:20151223T234534Z
LAST-MODIFIED:20151223T234534Z
UID:6550-1453555800-1453566600@jennys-sewing-studio.com
SUMMARY:Beginning Sewing-Erika Banks
DESCRIPTION:Beginner Sewing Basics – you will learn to sew.Private class for Erika Banks. 2 weeks Jan 16th and 23rd 2016 \nShare this:\n				Email a link to a friend (Opens in new window)\n				Email\n			\n				Print (Opens in new window)\n				Print\n			TweetLike this:Like Loading...
URL:https://jennys-sewing-studio.com/event/beginning-sewing-erika-banks/
LOCATION:Beginner Sewing\, Jenny's Sewing Studio\, Salisbury\, MD\, 21804\, United States
CATEGORIES:Beginner Sewing Class
END:VEVENT
BEGIN:VEVENT
DTSTART;TZID=America/New_York:20160116T013000
DTEND;TZID=America/New_York:20160116T163000
DTSTAMP:20260420T151543
CREATED:20151223T233538Z
LAST-MODIFIED:20151223T234216Z
UID:6543-1452907800-1452961800@jennys-sewing-studio.com
SUMMARY:Beginner Sewing - Erika Banks
DESCRIPTION:Beginner Sewing Basics – you will learn to sew.Private class for Erika Banks. 2 weeks Jan 16th and 23rd 2016 \nShare this:\n				Email a link to a friend (Opens in new window)\n				Email\n			\n				Print (Opens in new window)\n				Print\n			TweetLike this:Like Loading...
URL:https://jennys-sewing-studio.com/event/beginner-basics-erika-banks/
LOCATION:Beginner Sewing\, Jenny's Sewing Studio\, Salisbury\, MD\, 21804\, United States
CATEGORIES:Beginner Sewing Class
ATTACH;FMTTYPE=image/jpeg:https://jennys-sewing-studio.com/wp-content/uploads/2015/11/beginners.jpg
END:VEVENT
END:VCALENDAR