BEGIN:VCALENDAR
VERSION:2.0
PRODID:-//Jenny&#039;s Sewing Studio - ECPv6.15.20//NONSGML v1.0//EN
CALSCALE:GREGORIAN
METHOD:PUBLISH
X-ORIGINAL-URL:https://jennys-sewing-studio.com
X-WR-CALDESC:Events for Jenny&#039;s Sewing Studio
REFRESH-INTERVAL;VALUE=DURATION:PT1H
X-Robots-Tag:noindex
X-PUBLISHED-TTL:PT1H
BEGIN:VTIMEZONE
TZID:America/New_York
BEGIN:DAYLIGHT
TZOFFSETFROM:-0500
TZOFFSETTO:-0400
TZNAME:EDT
DTSTART:20170312T070000
END:DAYLIGHT
BEGIN:STANDARD
TZOFFSETFROM:-0400
TZOFFSETTO:-0500
TZNAME:EST
DTSTART:20171105T060000
END:STANDARD
BEGIN:DAYLIGHT
TZOFFSETFROM:-0500
TZOFFSETTO:-0400
TZNAME:EDT
DTSTART:20180311T070000
END:DAYLIGHT
BEGIN:STANDARD
TZOFFSETFROM:-0400
TZOFFSETTO:-0500
TZNAME:EST
DTSTART:20181104T060000
END:STANDARD
BEGIN:DAYLIGHT
TZOFFSETFROM:-0500
TZOFFSETTO:-0400
TZNAME:EDT
DTSTART:20190310T070000
END:DAYLIGHT
BEGIN:STANDARD
TZOFFSETFROM:-0400
TZOFFSETTO:-0500
TZNAME:EST
DTSTART:20191103T060000
END:STANDARD
END:VTIMEZONE
BEGIN:VEVENT
DTSTART;TZID=America/New_York:20181024T140000
DTEND;TZID=America/New_York:20181024T170000
DTSTAMP:20260420T105438
CREATED:20180922T225235Z
LAST-MODIFIED:20180922T225235Z
UID:11443-1540389600-1540400400@jennys-sewing-studio.com
SUMMARY:Asbury
DESCRIPTION:Asbury \nShare this:\n				Email a link to a friend (Opens in new window)\n				Email\n			\n				Print (Opens in new window)\n				Print\n			TweetLike this:Like Loading...
URL:https://jennys-sewing-studio.com/event/asbury-4/
CATEGORIES:Doctors
END:VEVENT
BEGIN:VEVENT
DTSTART;TZID=America/New_York:20181020T133000
DTEND;TZID=America/New_York:20181020T163000
DTSTAMP:20260420T105438
CREATED:20180927T013847Z
LAST-MODIFIED:20180927T013918Z
UID:11483-1540042200-1540053000@jennys-sewing-studio.com
SUMMARY:Charles
DESCRIPTION:Charles is taking beginning sewing \nShare this:\n				Email a link to a friend (Opens in new window)\n				Email\n			\n				Print (Opens in new window)\n				Print\n			TweetLike this:Like Loading...
URL:https://jennys-sewing-studio.com/event/charles-2/
CATEGORIES:Beginner Sewing Class
END:VEVENT
BEGIN:VEVENT
DTSTART;TZID=America/New_York:20181006T133000
DTEND;TZID=America/New_York:20181006T153000
DTSTAMP:20260420T105438
CREATED:20180925T031607Z
LAST-MODIFIED:20181002T132119Z
UID:11465-1538832600-1538839800@jennys-sewing-studio.com
SUMMARY:Charles
DESCRIPTION:Charles \nShare this:\n				Email a link to a friend (Opens in new window)\n				Email\n			\n				Print (Opens in new window)\n				Print\n			TweetLike this:Like Loading...
URL:https://jennys-sewing-studio.com/event/charles/
CATEGORIES:Sewing Machine Instruction
END:VEVENT
BEGIN:VEVENT
DTSTART;TZID=America/New_York:20181002T170000
DTEND;TZID=America/New_York:20181002T180000
DTSTAMP:20260420T105438
CREATED:20180922T225029Z
LAST-MODIFIED:20181002T132457Z
UID:11441-1538499600-1538503200@jennys-sewing-studio.com
SUMMARY:Weight Watchers
DESCRIPTION:WW weekly meetings \nShare this:\n				Email a link to a friend (Opens in new window)\n				Email\n			\n				Print (Opens in new window)\n				Print\n			TweetLike this:Like Loading...
URL:https://jennys-sewing-studio.com/event/weight-watchers/
END:VEVENT
BEGIN:VEVENT
DTSTART;TZID=America/New_York:20180930T013000
DTEND;TZID=America/New_York:20180930T043000
DTSTAMP:20260420T105438
CREATED:20180922T224752Z
LAST-MODIFIED:20180922T224752Z
UID:11439-1538271000-1538281800@jennys-sewing-studio.com
SUMMARY:Barb
DESCRIPTION:Barb lesson \nShare this:\n				Email a link to a friend (Opens in new window)\n				Email\n			\n				Print (Opens in new window)\n				Print\n			TweetLike this:Like Loading...
URL:https://jennys-sewing-studio.com/event/barb/
CATEGORIES:continue sewing
END:VEVENT
BEGIN:VEVENT
DTSTART;TZID=America/New_York:20180923T133000
DTEND;TZID=America/New_York:20180923T170000
DTSTAMP:20260420T105438
CREATED:20180829T231623Z
LAST-MODIFIED:20180829T231726Z
UID:11190-1537709400-1537722000@jennys-sewing-studio.com
SUMMARY:Barbara
DESCRIPTION:Continue Sewing \nShare this:\n				Email a link to a friend (Opens in new window)\n				Email\n			\n				Print (Opens in new window)\n				Print\n			TweetLike this:Like Loading...
URL:https://jennys-sewing-studio.com/event/barbara-3/
CATEGORIES:continue sewing
END:VEVENT
BEGIN:VEVENT
DTSTART;TZID=America/New_York:20180922T133000
DTEND;TZID=America/New_York:20180922T170000
DTSTAMP:20260420T105438
CREATED:20180830T005228Z
LAST-MODIFIED:20180830T005309Z
UID:11192-1537623000-1537635600@jennys-sewing-studio.com
SUMMARY:Grace
DESCRIPTION:Continue Sewing \nShare this:\n				Email a link to a friend (Opens in new window)\n				Email\n			\n				Print (Opens in new window)\n				Print\n			TweetLike this:Like Loading...
URL:https://jennys-sewing-studio.com/event/grace-3/
CATEGORIES:continue sewing
END:VEVENT
BEGIN:VEVENT
DTSTART;TZID=America/New_York:20180916T133000
DTEND;TZID=America/New_York:20180916T170000
DTSTAMP:20260420T105438
CREATED:20180829T231415Z
LAST-MODIFIED:20180829T231540Z
UID:11188-1537104600-1537117200@jennys-sewing-studio.com
SUMMARY:Barbara
DESCRIPTION:Continue Sewing \nShare this:\n				Email a link to a friend (Opens in new window)\n				Email\n			\n				Print (Opens in new window)\n				Print\n			TweetLike this:Like Loading...
URL:https://jennys-sewing-studio.com/event/barbara-2/
CATEGORIES:continue sewing
END:VEVENT
BEGIN:VEVENT
DTSTART;TZID=America/New_York:20180915T133000
DTEND;TZID=America/New_York:20180915T170000
DTSTAMP:20260420T105438
CREATED:20180829T231153Z
LAST-MODIFIED:20180829T231307Z
UID:11186-1537018200-1537030800@jennys-sewing-studio.com
SUMMARY:Grace
DESCRIPTION:Continue Sewing \nShare this:\n				Email a link to a friend (Opens in new window)\n				Email\n			\n				Print (Opens in new window)\n				Print\n			TweetLike this:Like Loading...
URL:https://jennys-sewing-studio.com/event/grace-2/
CATEGORIES:continue sewing
END:VEVENT
BEGIN:VEVENT
DTSTART;TZID=America/New_York:20180819T133000
DTEND;TZID=America/New_York:20180819T163000
DTSTAMP:20260420T105438
CREATED:20180814T232429Z
LAST-MODIFIED:20180814T232813Z
UID:7741-1534685400-1534696200@jennys-sewing-studio.com
SUMMARY:Machine Instruction Barbara
DESCRIPTION:Machine Instruction Barbara \nShare this:\n				Email a link to a friend (Opens in new window)\n				Email\n			\n				Print (Opens in new window)\n				Print\n			TweetLike this:Like Loading...
URL:https://jennys-sewing-studio.com/event/machine-instruction-jane-garrison-2/
CATEGORIES:Sewing Machine Instruction
END:VEVENT
BEGIN:VEVENT
DTSTART;TZID=America/New_York:20180814T080000
DTEND;TZID=America/New_York:20180814T170000
DTSTAMP:20260420T105438
CREATED:20180814T231743Z
LAST-MODIFIED:20180814T231743Z
UID:10993-1534233600-1534266000@jennys-sewing-studio.com
SUMMARY:Embroidery - Barbara
DESCRIPTION:Share this:\n				Email a link to a friend (Opens in new window)\n				Email\n			\n				Print (Opens in new window)\n				Print\n			TweetLike this:Like Loading...
URL:https://jennys-sewing-studio.com/event/embroidery-barbara/
END:VEVENT
BEGIN:VEVENT
DTSTART;TZID=America/New_York:20180812T133000
DTEND;TZID=America/New_York:20180812T153000
DTSTAMP:20260420T105438
CREATED:20180801T233426Z
LAST-MODIFIED:20180801T233426Z
UID:10939-1534080600-1534087800@jennys-sewing-studio.com
SUMMARY:Erin Giza
DESCRIPTION:Machine Instruction \nShare this:\n				Email a link to a friend (Opens in new window)\n				Email\n			\n				Print (Opens in new window)\n				Print\n			TweetLike this:Like Loading...
URL:https://jennys-sewing-studio.com/event/erin-giza/
CATEGORIES:Sewing Machine Instruction
END:VEVENT
BEGIN:VEVENT
DTSTART;TZID=America/New_York:20180805T133000
DTEND;TZID=America/New_York:20180805T170000
DTSTAMP:20260420T105438
CREATED:20180721T010047Z
LAST-MODIFIED:20180721T010222Z
UID:10858-1533475800-1533488400@jennys-sewing-studio.com
SUMMARY:Barbara
DESCRIPTION:Barbara embroidery \nShare this:\n				Email a link to a friend (Opens in new window)\n				Email\n			\n				Print (Opens in new window)\n				Print\n			TweetLike this:Like Loading...
URL:https://jennys-sewing-studio.com/event/barbara/
CATEGORIES:Sewing Machine Instruction
END:VEVENT
BEGIN:VEVENT
DTSTART;TZID=America/New_York:20180804T133000
DTEND;TZID=America/New_York:20180804T163000
DTSTAMP:20260420T105438
CREATED:20180721T010802Z
LAST-MODIFIED:20180721T010846Z
UID:10865-1533389400-1533400200@jennys-sewing-studio.com
SUMMARY:Grace - Curtain and Scrubs
DESCRIPTION:Grace – Curtain and Scrubs \nShare this:\n				Email a link to a friend (Opens in new window)\n				Email\n			\n				Print (Opens in new window)\n				Print\n			TweetLike this:Like Loading...
URL:https://jennys-sewing-studio.com/event/grace-curtain-and-scrubs-2/
CATEGORIES:continue sewing
END:VEVENT
BEGIN:VEVENT
DTSTART;TZID=America/New_York:20180803T133000
DTEND;TZID=America/New_York:20180803T143000
DTSTAMP:20260420T105438
CREATED:20180721T010938Z
LAST-MODIFIED:20180721T011044Z
UID:10867-1533303000-1533306600@jennys-sewing-studio.com
SUMMARY:Hearne
DESCRIPTION:Hearne \nShare this:\n				Email a link to a friend (Opens in new window)\n				Email\n			\n				Print (Opens in new window)\n				Print\n			TweetLike this:Like Loading...
URL:https://jennys-sewing-studio.com/event/hearne/
CATEGORIES:Doctors
END:VEVENT
BEGIN:VEVENT
DTSTART;TZID=America/New_York:20180730T133000
DTEND;TZID=America/New_York:20180730T163000
DTSTAMP:20260420T105438
CREATED:20180721T010636Z
LAST-MODIFIED:20180721T010727Z
UID:10863-1532957400-1532968200@jennys-sewing-studio.com
SUMMARY:Grace - Curtain and Scrubs
DESCRIPTION:Grace – Curtain and Scrubs \nShare this:\n				Email a link to a friend (Opens in new window)\n				Email\n			\n				Print (Opens in new window)\n				Print\n			TweetLike this:Like Loading...
URL:https://jennys-sewing-studio.com/event/grace-curtain-and-scrubs/
CATEGORIES:continue sewing
END:VEVENT
BEGIN:VEVENT
DTSTART;TZID=America/New_York:20180724T100000
DTEND;TZID=America/New_York:20180724T163000
DTSTAMP:20260420T105438
CREATED:20180721T010525Z
LAST-MODIFIED:20180721T010525Z
UID:10861-1532426400-1532449800@jennys-sewing-studio.com
SUMMARY:Carolyn Futura
DESCRIPTION:Carolyn Futura \nShare this:\n				Email a link to a friend (Opens in new window)\n				Email\n			\n				Print (Opens in new window)\n				Print\n			TweetLike this:Like Loading...
URL:https://jennys-sewing-studio.com/event/carolyn-futura/
CATEGORIES:Singer Futura seminar
END:VEVENT
BEGIN:VEVENT
DTSTART;TZID=America/New_York:20180720T080000
DTEND;TZID=America/New_York:20180720T170000
DTSTAMP:20260420T105438
CREATED:20180721T011212Z
LAST-MODIFIED:20180721T011212Z
UID:10869-1532073600-1532106000@jennys-sewing-studio.com
SUMMARY:Im
DESCRIPTION:Im \nShare this:\n				Email a link to a friend (Opens in new window)\n				Email\n			\n				Print (Opens in new window)\n				Print\n			TweetLike this:Like Loading...
URL:https://jennys-sewing-studio.com/event/im/
END:VEVENT
BEGIN:VEVENT
DTSTART;TZID=America/New_York:20180710T134500
DTEND;TZID=America/New_York:20180710T143000
DTSTAMP:20260420T105438
CREATED:20180612T192756Z
LAST-MODIFIED:20180612T192957Z
UID:10200-1531230300-1531233000@jennys-sewing-studio.com
SUMMARY:Kim
DESCRIPTION:Kim \nShare this:\n				Email a link to a friend (Opens in new window)\n				Email\n			\n				Print (Opens in new window)\n				Print\n			TweetLike this:Like Loading...
URL:https://jennys-sewing-studio.com/event/kim-3/
CATEGORIES:Doctors
END:VEVENT
BEGIN:VEVENT
DTSTART;TZID=America/New_York:20180626T013000
DTEND;TZID=America/New_York:20180626T143000
DTSTAMP:20260420T105438
CREATED:20180612T192456Z
LAST-MODIFIED:20180612T192553Z
UID:10198-1529976600-1530023400@jennys-sewing-studio.com
SUMMARY:Nateson
DESCRIPTION:Nateson \nShare this:\n				Email a link to a friend (Opens in new window)\n				Email\n			\n				Print (Opens in new window)\n				Print\n			TweetLike this:Like Loading...
URL:https://jennys-sewing-studio.com/event/nateson-4/
CATEGORIES:Doctors
END:VEVENT
BEGIN:VEVENT
DTSTART;TZID=America/New_York:20180617T133000
DTEND;TZID=America/New_York:20180617T170000
DTSTAMP:20260420T105438
CREATED:20180612T191955Z
LAST-MODIFIED:20180612T192036Z
UID:10194-1529242200-1529254800@jennys-sewing-studio.com
SUMMARY:Grace
DESCRIPTION:Grace \nShare this:\n				Email a link to a friend (Opens in new window)\n				Email\n			\n				Print (Opens in new window)\n				Print\n			TweetLike this:Like Loading...
URL:https://jennys-sewing-studio.com/event/grace/
CATEGORIES:quick trip quilt
END:VEVENT
BEGIN:VEVENT
DTSTART;TZID=America/New_York:20180616T103000
DTEND;TZID=America/New_York:20180616T170000
DTSTAMP:20260420T105438
CREATED:20180520T014208Z
LAST-MODIFIED:20180520T014247Z
UID:9857-1529145000-1529168400@jennys-sewing-studio.com
SUMMARY:Shower
DESCRIPTION:Shower \nShare this:\n				Email a link to a friend (Opens in new window)\n				Email\n			\n				Print (Opens in new window)\n				Print\n			TweetLike this:Like Loading...
URL:https://jennys-sewing-studio.com/event/shower/
CATEGORIES:Jenny's Personal event
END:VEVENT
BEGIN:VEVENT
DTSTART;TZID=America/New_York:20180614T110000
DTEND;TZID=America/New_York:20180614T120000
DTSTAMP:20260420T105438
CREATED:20180612T192239Z
LAST-MODIFIED:20180612T192357Z
UID:10196-1528974000-1528977600@jennys-sewing-studio.com
SUMMARY:Macachin
DESCRIPTION:Macachin \nShare this:\n				Email a link to a friend (Opens in new window)\n				Email\n			\n				Print (Opens in new window)\n				Print\n			TweetLike this:Like Loading...
URL:https://jennys-sewing-studio.com/event/macachin/
CATEGORIES:Jenny's Personal event
END:VEVENT
BEGIN:VEVENT
DTSTART;TZID=America/New_York:20180610T133000
DTEND;TZID=America/New_York:20180610T163000
DTSTAMP:20260420T105438
CREATED:20180530T010836Z
LAST-MODIFIED:20180530T010836Z
UID:10036-1528637400-1528648200@jennys-sewing-studio.com
SUMMARY:Grace quilt class-reserve
DESCRIPTION:Grace quilt class-reserve \nShare this:\n				Email a link to a friend (Opens in new window)\n				Email\n			\n				Print (Opens in new window)\n				Print\n			TweetLike this:Like Loading...
URL:https://jennys-sewing-studio.com/event/grace-quilt-class-reserve/
CATEGORIES:quick trip quilt
END:VEVENT
BEGIN:VEVENT
DTSTART;TZID=America/New_York:20180609T180000
DTEND;TZID=America/New_York:20180609T200000
DTSTAMP:20260420T105438
CREATED:20180520T014001Z
LAST-MODIFIED:20180520T014001Z
UID:9855-1528567200-1528574400@jennys-sewing-studio.com
SUMMARY:Reunion
DESCRIPTION:Reunion \nShare this:\n				Email a link to a friend (Opens in new window)\n				Email\n			\n				Print (Opens in new window)\n				Print\n			TweetLike this:Like Loading...
URL:https://jennys-sewing-studio.com/event/reunion/
CATEGORIES:Jenny's Personal event
END:VEVENT
BEGIN:VEVENT
DTSTART;TZID=America/New_York:20180603T133000
DTEND;TZID=America/New_York:20180603T163000
DTSTAMP:20260420T105438
CREATED:20180520T013642Z
LAST-MODIFIED:20180520T013642Z
UID:9852-1528032600-1528043400@jennys-sewing-studio.com
SUMMARY:Barbara - sewing
DESCRIPTION:Barbara – sewing \nShare this:\n				Email a link to a friend (Opens in new window)\n				Email\n			\n				Print (Opens in new window)\n				Print\n			TweetLike this:Like Loading...
URL:https://jennys-sewing-studio.com/event/barbara-sewing-2/
CATEGORIES:continue sewing
END:VEVENT
BEGIN:VEVENT
DTSTART;TZID=America/New_York:20180529T080000
DTEND;TZID=America/New_York:20180529T170000
DTSTAMP:20260420T105438
CREATED:20180530T010919Z
LAST-MODIFIED:20180530T010919Z
UID:10038-1527580800-1527613200@jennys-sewing-studio.com
SUMMARY:Nolan
DESCRIPTION:Nolan \nShare this:\n				Email a link to a friend (Opens in new window)\n				Email\n			\n				Print (Opens in new window)\n				Print\n			TweetLike this:Like Loading...
URL:https://jennys-sewing-studio.com/event/nolan/
END:VEVENT
BEGIN:VEVENT
DTSTART;TZID=America/New_York:20180527T133000
DTEND;TZID=America/New_York:20180527T163000
DTSTAMP:20260420T105438
CREATED:20180520T013446Z
LAST-MODIFIED:20180520T013533Z
UID:9850-1527427800-1527438600@jennys-sewing-studio.com
SUMMARY:Barbara - sewing
DESCRIPTION:Barbara – sewing \nShare this:\n				Email a link to a friend (Opens in new window)\n				Email\n			\n				Print (Opens in new window)\n				Print\n			TweetLike this:Like Loading...
URL:https://jennys-sewing-studio.com/event/barbara-sewing/
CATEGORIES:continue sewing
END:VEVENT
BEGIN:VEVENT
DTSTART;TZID=America/New_York:20180524T133000
DTEND;TZID=America/New_York:20180524T170000
DTSTAMP:20260420T105438
CREATED:20180520T015007Z
LAST-MODIFIED:20180520T015007Z
UID:9861-1527168600-1527181200@jennys-sewing-studio.com
SUMMARY:Ruth - Quilt
DESCRIPTION:Ruth – Quilt \nShare this:\n				Email a link to a friend (Opens in new window)\n				Email\n			\n				Print (Opens in new window)\n				Print\n			TweetLike this:Like Loading...
URL:https://jennys-sewing-studio.com/event/ruth-quilt/
END:VEVENT
BEGIN:VEVENT
DTSTART;TZID=America/New_York:20180328T033000
DTEND;TZID=America/New_York:20180328T170000
DTSTAMP:20260420T105438
CREATED:20180123T031634Z
LAST-MODIFIED:20180123T031713Z
UID:9363-1522207800-1522256400@jennys-sewing-studio.com
SUMMARY:Dr IM
DESCRIPTION:Dr IM \nShare this:\n				Email a link to a friend (Opens in new window)\n				Email\n			\n				Print (Opens in new window)\n				Print\n			TweetLike this:Like Loading...
URL:https://jennys-sewing-studio.com/event/dr-im-3/
CATEGORIES:Doctors
END:VEVENT
END:VCALENDAR