BEGIN:VCALENDAR
VERSION:2.0
PRODID:-//Jenny&#039;s Sewing Studio - ECPv6.15.20//NONSGML v1.0//EN
CALSCALE:GREGORIAN
METHOD:PUBLISH
X-ORIGINAL-URL:https://jennys-sewing-studio.com
X-WR-CALDESC:Events for Jenny&#039;s Sewing Studio
REFRESH-INTERVAL;VALUE=DURATION:PT1H
X-Robots-Tag:noindex
X-PUBLISHED-TTL:PT1H
BEGIN:VTIMEZONE
TZID:America/New_York
BEGIN:DAYLIGHT
TZOFFSETFROM:-0500
TZOFFSETTO:-0400
TZNAME:EDT
DTSTART:20170312T070000
END:DAYLIGHT
BEGIN:STANDARD
TZOFFSETFROM:-0400
TZOFFSETTO:-0500
TZNAME:EST
DTSTART:20171105T060000
END:STANDARD
BEGIN:DAYLIGHT
TZOFFSETFROM:-0500
TZOFFSETTO:-0400
TZNAME:EDT
DTSTART:20180311T070000
END:DAYLIGHT
BEGIN:STANDARD
TZOFFSETFROM:-0400
TZOFFSETTO:-0500
TZNAME:EST
DTSTART:20181104T060000
END:STANDARD
BEGIN:DAYLIGHT
TZOFFSETFROM:-0500
TZOFFSETTO:-0400
TZNAME:EDT
DTSTART:20190310T070000
END:DAYLIGHT
BEGIN:STANDARD
TZOFFSETFROM:-0400
TZOFFSETTO:-0500
TZNAME:EST
DTSTART:20191103T060000
END:STANDARD
END:VTIMEZONE
BEGIN:VEVENT
DTSTART;TZID=America/New_York:20180617T133000
DTEND;TZID=America/New_York:20180617T170000
DTSTAMP:20260421T003211
CREATED:20180612T191955Z
LAST-MODIFIED:20180612T192036Z
UID:10194-1529242200-1529254800@jennys-sewing-studio.com
SUMMARY:Grace
DESCRIPTION:Grace \nShare this:\n				Email a link to a friend (Opens in new window)\n				Email\n			\n				Print (Opens in new window)\n				Print\n			TweetLike this:Like Loading...
URL:https://jennys-sewing-studio.com/event/grace/
CATEGORIES:quick trip quilt
END:VEVENT
BEGIN:VEVENT
DTSTART;TZID=America/New_York:20180616T103000
DTEND;TZID=America/New_York:20180616T170000
DTSTAMP:20260421T003211
CREATED:20180520T014208Z
LAST-MODIFIED:20180520T014247Z
UID:9857-1529145000-1529168400@jennys-sewing-studio.com
SUMMARY:Shower
DESCRIPTION:Shower \nShare this:\n				Email a link to a friend (Opens in new window)\n				Email\n			\n				Print (Opens in new window)\n				Print\n			TweetLike this:Like Loading...
URL:https://jennys-sewing-studio.com/event/shower/
CATEGORIES:Jenny's Personal event
END:VEVENT
BEGIN:VEVENT
DTSTART;TZID=America/New_York:20180614T110000
DTEND;TZID=America/New_York:20180614T120000
DTSTAMP:20260421T003211
CREATED:20180612T192239Z
LAST-MODIFIED:20180612T192357Z
UID:10196-1528974000-1528977600@jennys-sewing-studio.com
SUMMARY:Macachin
DESCRIPTION:Macachin \nShare this:\n				Email a link to a friend (Opens in new window)\n				Email\n			\n				Print (Opens in new window)\n				Print\n			TweetLike this:Like Loading...
URL:https://jennys-sewing-studio.com/event/macachin/
CATEGORIES:Jenny's Personal event
END:VEVENT
BEGIN:VEVENT
DTSTART;TZID=America/New_York:20180610T133000
DTEND;TZID=America/New_York:20180610T163000
DTSTAMP:20260421T003211
CREATED:20180530T010836Z
LAST-MODIFIED:20180530T010836Z
UID:10036-1528637400-1528648200@jennys-sewing-studio.com
SUMMARY:Grace quilt class-reserve
DESCRIPTION:Grace quilt class-reserve \nShare this:\n				Email a link to a friend (Opens in new window)\n				Email\n			\n				Print (Opens in new window)\n				Print\n			TweetLike this:Like Loading...
URL:https://jennys-sewing-studio.com/event/grace-quilt-class-reserve/
CATEGORIES:quick trip quilt
END:VEVENT
BEGIN:VEVENT
DTSTART;TZID=America/New_York:20180609T180000
DTEND;TZID=America/New_York:20180609T200000
DTSTAMP:20260421T003211
CREATED:20180520T014001Z
LAST-MODIFIED:20180520T014001Z
UID:9855-1528567200-1528574400@jennys-sewing-studio.com
SUMMARY:Reunion
DESCRIPTION:Reunion \nShare this:\n				Email a link to a friend (Opens in new window)\n				Email\n			\n				Print (Opens in new window)\n				Print\n			TweetLike this:Like Loading...
URL:https://jennys-sewing-studio.com/event/reunion/
CATEGORIES:Jenny's Personal event
END:VEVENT
BEGIN:VEVENT
DTSTART;TZID=America/New_York:20180603T133000
DTEND;TZID=America/New_York:20180603T163000
DTSTAMP:20260421T003211
CREATED:20180520T013642Z
LAST-MODIFIED:20180520T013642Z
UID:9852-1528032600-1528043400@jennys-sewing-studio.com
SUMMARY:Barbara - sewing
DESCRIPTION:Barbara – sewing \nShare this:\n				Email a link to a friend (Opens in new window)\n				Email\n			\n				Print (Opens in new window)\n				Print\n			TweetLike this:Like Loading...
URL:https://jennys-sewing-studio.com/event/barbara-sewing-2/
CATEGORIES:continue sewing
END:VEVENT
BEGIN:VEVENT
DTSTART;TZID=America/New_York:20180529T080000
DTEND;TZID=America/New_York:20180529T170000
DTSTAMP:20260421T003211
CREATED:20180530T010919Z
LAST-MODIFIED:20180530T010919Z
UID:10038-1527580800-1527613200@jennys-sewing-studio.com
SUMMARY:Nolan
DESCRIPTION:Nolan \nShare this:\n				Email a link to a friend (Opens in new window)\n				Email\n			\n				Print (Opens in new window)\n				Print\n			TweetLike this:Like Loading...
URL:https://jennys-sewing-studio.com/event/nolan/
END:VEVENT
BEGIN:VEVENT
DTSTART;TZID=America/New_York:20180527T133000
DTEND;TZID=America/New_York:20180527T163000
DTSTAMP:20260421T003211
CREATED:20180520T013446Z
LAST-MODIFIED:20180520T013533Z
UID:9850-1527427800-1527438600@jennys-sewing-studio.com
SUMMARY:Barbara - sewing
DESCRIPTION:Barbara – sewing \nShare this:\n				Email a link to a friend (Opens in new window)\n				Email\n			\n				Print (Opens in new window)\n				Print\n			TweetLike this:Like Loading...
URL:https://jennys-sewing-studio.com/event/barbara-sewing/
CATEGORIES:continue sewing
END:VEVENT
BEGIN:VEVENT
DTSTART;TZID=America/New_York:20180524T133000
DTEND;TZID=America/New_York:20180524T170000
DTSTAMP:20260421T003211
CREATED:20180520T015007Z
LAST-MODIFIED:20180520T015007Z
UID:9861-1527168600-1527181200@jennys-sewing-studio.com
SUMMARY:Ruth - Quilt
DESCRIPTION:Ruth – Quilt \nShare this:\n				Email a link to a friend (Opens in new window)\n				Email\n			\n				Print (Opens in new window)\n				Print\n			TweetLike this:Like Loading...
URL:https://jennys-sewing-studio.com/event/ruth-quilt/
END:VEVENT
BEGIN:VEVENT
DTSTART;TZID=America/New_York:20180328T033000
DTEND;TZID=America/New_York:20180328T170000
DTSTAMP:20260421T003211
CREATED:20180123T031634Z
LAST-MODIFIED:20180123T031713Z
UID:9363-1522207800-1522256400@jennys-sewing-studio.com
SUMMARY:Dr IM
DESCRIPTION:Dr IM \nShare this:\n				Email a link to a friend (Opens in new window)\n				Email\n			\n				Print (Opens in new window)\n				Print\n			TweetLike this:Like Loading...
URL:https://jennys-sewing-studio.com/event/dr-im-3/
CATEGORIES:Doctors
END:VEVENT
BEGIN:VEVENT
DTSTART;TZID=America/New_York:20180326T134500
DTEND;TZID=America/New_York:20180326T170000
DTSTAMP:20260421T003211
CREATED:20180123T031456Z
LAST-MODIFIED:20180123T031559Z
UID:9360-1522071900-1522083600@jennys-sewing-studio.com
SUMMARY:Dr Nateson
DESCRIPTION:Dr Nateson \nShare this:\n				Email a link to a friend (Opens in new window)\n				Email\n			\n				Print (Opens in new window)\n				Print\n			TweetLike this:Like Loading...
URL:https://jennys-sewing-studio.com/event/dr-nateson/
CATEGORIES:Doctors
END:VEVENT
BEGIN:VEVENT
DTSTART;TZID=America/New_York:20180310T080000
DTEND;TZID=America/New_York:20180310T170000
DTSTAMP:20260421T003211
CREATED:20180205T210357Z
LAST-MODIFIED:20180205T210459Z
UID:9445-1520668800-1520701200@jennys-sewing-studio.com
SUMMARY:Senior Social
DESCRIPTION:Senior Social \nShare this:\n				Email a link to a friend (Opens in new window)\n				Email\n			\n				Print (Opens in new window)\n				Print\n			TweetLike this:Like Loading...
URL:https://jennys-sewing-studio.com/event/senior-social-6/
CATEGORIES:Jenny's Personal event
END:VEVENT
BEGIN:VEVENT
DTSTART;TZID=America/New_York:20180307T140000
DTEND;TZID=America/New_York:20180307T170000
DTSTAMP:20260421T003211
CREATED:20180205T205755Z
LAST-MODIFIED:20180205T205849Z
UID:9439-1520431200-1520442000@jennys-sewing-studio.com
SUMMARY:Dr Viertl
DESCRIPTION:Dr Viertl \nShare this:\n				Email a link to a friend (Opens in new window)\n				Email\n			\n				Print (Opens in new window)\n				Print\n			TweetLike this:Like Loading...
URL:https://jennys-sewing-studio.com/event/dr-viertl/
CATEGORIES:Doctors
END:VEVENT
BEGIN:VEVENT
DTSTART;TZID=America/New_York:20180307T080000
DTEND;TZID=America/New_York:20180307T170000
DTSTAMP:20260421T003211
CREATED:20180205T205628Z
LAST-MODIFIED:20180205T205709Z
UID:9436-1520409600-1520442000@jennys-sewing-studio.com
SUMMARY:Dr Tu Cataract
DESCRIPTION:Dr Tu Cataract \nShare this:\n				Email a link to a friend (Opens in new window)\n				Email\n			\n				Print (Opens in new window)\n				Print\n			TweetLike this:Like Loading...
URL:https://jennys-sewing-studio.com/event/dr-tu-cataract-2/
CATEGORIES:Doctors
END:VEVENT
BEGIN:VEVENT
DTSTART;TZID=America/New_York:20180305T110000
DTEND;TZID=America/New_York:20180305T120000
DTSTAMP:20260421T003211
CREATED:20180122T223157Z
LAST-MODIFIED:20180122T223301Z
UID:9350-1520247600-1520251200@jennys-sewing-studio.com
SUMMARY:Dr Passeri
DESCRIPTION:Dr Passeri \nShare this:\n				Email a link to a friend (Opens in new window)\n				Email\n			\n				Print (Opens in new window)\n				Print\n			TweetLike this:Like Loading...
URL:https://jennys-sewing-studio.com/event/dr-passeri-2/
CATEGORIES:Doctors
END:VEVENT
BEGIN:VEVENT
DTSTART;TZID=America/New_York:20180301T080000
DTEND;TZID=America/New_York:20180301T170000
DTSTAMP:20260421T003211
CREATED:20180205T205515Z
LAST-MODIFIED:20180205T205546Z
UID:9433-1519891200-1519923600@jennys-sewing-studio.com
SUMMARY:Dr Tu Cataract
DESCRIPTION:Dr Tu Cataract \nShare this:\n				Email a link to a friend (Opens in new window)\n				Email\n			\n				Print (Opens in new window)\n				Print\n			TweetLike this:Like Loading...
URL:https://jennys-sewing-studio.com/event/dr-tu-cataract/
CATEGORIES:Doctors
END:VEVENT
BEGIN:VEVENT
DTSTART;TZID=America/New_York:20180228T080000
DTEND;TZID=America/New_York:20180228T170000
DTSTAMP:20260421T003211
CREATED:20180205T205420Z
LAST-MODIFIED:20180205T205442Z
UID:9430-1519804800-1519837200@jennys-sewing-studio.com
SUMMARY:Dr Tu Catarac
DESCRIPTION:Dr Tu Cataract \nShare this:\n				Email a link to a friend (Opens in new window)\n				Email\n			\n				Print (Opens in new window)\n				Print\n			TweetLike this:Like Loading...
URL:https://jennys-sewing-studio.com/event/dr-tu-catarac/
CATEGORIES:Doctors
END:VEVENT
BEGIN:VEVENT
DTSTART;TZID=America/New_York:20180222T110000
DTEND;TZID=America/New_York:20180222T170000
DTSTAMP:20260421T003211
CREATED:20180205T204957Z
LAST-MODIFIED:20180205T205118Z
UID:9426-1519297200-1519318800@jennys-sewing-studio.com
SUMMARY:Sieldel
DESCRIPTION:Sieldel \nShare this:\n				Email a link to a friend (Opens in new window)\n				Email\n			\n				Print (Opens in new window)\n				Print\n			TweetLike this:Like Loading...
URL:https://jennys-sewing-studio.com/event/siedel/
CATEGORIES:Doctors
END:VEVENT
BEGIN:VEVENT
DTSTART;TZID=America/New_York:20180220T110000
DTEND;TZID=America/New_York:20180220T120000
DTSTAMP:20260421T003211
CREATED:20180122T221937Z
LAST-MODIFIED:20180122T222036Z
UID:9344-1519124400-1519128000@jennys-sewing-studio.com
SUMMARY:Dr Tu
DESCRIPTION:Dr Tu \nShare this:\n				Email a link to a friend (Opens in new window)\n				Email\n			\n				Print (Opens in new window)\n				Print\n			TweetLike this:Like Loading...
URL:https://jennys-sewing-studio.com/event/dr-tu/
CATEGORIES:Doctors
END:VEVENT
BEGIN:VEVENT
DTSTART;TZID=America/New_York:20180219T120000
DTEND;TZID=America/New_York:20180219T170000
DTSTAMP:20260421T003211
CREATED:20180205T204817Z
LAST-MODIFIED:20180205T204913Z
UID:9423-1519041600-1519059600@jennys-sewing-studio.com
SUMMARY:Viertl
DESCRIPTION:Viertl \nShare this:\n				Email a link to a friend (Opens in new window)\n				Email\n			\n				Print (Opens in new window)\n				Print\n			TweetLike this:Like Loading...
URL:https://jennys-sewing-studio.com/event/vertiel-5/
CATEGORIES:Doctors
END:VEVENT
BEGIN:VEVENT
DTSTART;TZID=America/New_York:20180210T140000
DTEND;TZID=America/New_York:20180210T170000
DTSTAMP:20260421T003211
CREATED:20180205T210239Z
LAST-MODIFIED:20180205T210323Z
UID:9442-1518271200-1518282000@jennys-sewing-studio.com
SUMMARY:Senior Social
DESCRIPTION:Senior Social \nShare this:\n				Email a link to a friend (Opens in new window)\n				Email\n			\n				Print (Opens in new window)\n				Print\n			TweetLike this:Like Loading...
URL:https://jennys-sewing-studio.com/event/senior-social-5/
CATEGORIES:Jenny's Personal event
END:VEVENT
BEGIN:VEVENT
DTSTART;TZID=America/New_York:20180201T180000
DTEND;TZID=America/New_York:20180201T180000
DTSTAMP:20260421T003211
CREATED:20180122T223530Z
LAST-MODIFIED:20180123T030341Z
UID:9353-1517508000-1517508000@jennys-sewing-studio.com
SUMMARY:Jim's Birthday Dinner
DESCRIPTION:Jim’s Birthday Dinner \nShare this:\n				Email a link to a friend (Opens in new window)\n				Email\n			\n				Print (Opens in new window)\n				Print\n			TweetLike this:Like Loading...
URL:https://jennys-sewing-studio.com/event/jims-birthday-2/
CATEGORIES:Jenny's Personal event
END:VEVENT
BEGIN:VEVENT
DTSTART;TZID=America/New_York:20180129T105000
DTEND;TZID=America/New_York:20180129T120000
DTSTAMP:20260421T003211
CREATED:20180122T222117Z
LAST-MODIFIED:20180122T222236Z
UID:9347-1517223000-1517227200@jennys-sewing-studio.com
SUMMARY:Dr Tu
DESCRIPTION:Dr Tu \nShare this:\n				Email a link to a friend (Opens in new window)\n				Email\n			\n				Print (Opens in new window)\n				Print\n			TweetLike this:Like Loading...
URL:https://jennys-sewing-studio.com/event/dr-tu-2/
CATEGORIES:Doctors
END:VEVENT
BEGIN:VEVENT
DTSTART;TZID=America/New_York:20180128T140000
DTEND;TZID=America/New_York:20180128T170000
DTSTAMP:20260421T003211
CREATED:20180116T040916Z
LAST-MODIFIED:20180122T221019Z
UID:9308-1517148000-1517158800@jennys-sewing-studio.com
SUMMARY:Sue- 2:00
DESCRIPTION:Sue \nShare this:\n				Email a link to a friend (Opens in new window)\n				Email\n			\n				Print (Opens in new window)\n				Print\n			TweetLike this:Like Loading...
URL:https://jennys-sewing-studio.com/event/sue-2/
END:VEVENT
BEGIN:VEVENT
DTSTART;TZID=America/New_York:20180125T133000
DTEND;TZID=America/New_York:20180125T153000
DTSTAMP:20260421T003211
CREATED:20180114T181509Z
LAST-MODIFIED:20180116T040733Z
UID:9305-1516887000-1516894200@jennys-sewing-studio.com
SUMMARY:Learn to use sewing machine  - Kari Horner
DESCRIPTION:Learn to use sewing machine \nShare this:\n				Email a link to a friend (Opens in new window)\n				Email\n			\n				Print (Opens in new window)\n				Print\n			TweetLike this:Like Loading...
URL:https://jennys-sewing-studio.com/event/learn-use-sewing-machine-kari-horner/
CATEGORIES:Sewing Machine Instruction
END:VEVENT
BEGIN:VEVENT
DTSTART;TZID=America/New_York:20180124T113000
DTEND;TZID=America/New_York:20180124T170000
DTSTAMP:20260421T003211
CREATED:20171230T163311Z
LAST-MODIFIED:20171230T163311Z
UID:9266-1516793400-1516813200@jennys-sewing-studio.com
SUMMARY:Mammogram
DESCRIPTION:Mammogram \nShare this:\n				Email a link to a friend (Opens in new window)\n				Email\n			\n				Print (Opens in new window)\n				Print\n			TweetLike this:Like Loading...
URL:https://jennys-sewing-studio.com/event/mammogram/
END:VEVENT
BEGIN:VEVENT
DTSTART;TZID=America/New_York:20180123T075000
DTEND;TZID=America/New_York:20180123T120000
DTSTAMP:20260421T003211
CREATED:20171230T163212Z
LAST-MODIFIED:20180122T222416Z
UID:9264-1516693800-1516708800@jennys-sewing-studio.com
SUMMARY:Eye Surgery -TU
DESCRIPTION:Eye Surgery -TU followup \nShare this:\n				Email a link to a friend (Opens in new window)\n				Email\n			\n				Print (Opens in new window)\n				Print\n			TweetLike this:Like Loading...
URL:https://jennys-sewing-studio.com/event/eye-surgery-tu-2/
CATEGORIES:Doctors
END:VEVENT
BEGIN:VEVENT
DTSTART;TZID=America/New_York:20180122T080000
DTEND;TZID=America/New_York:20180122T170000
DTSTAMP:20260421T003211
CREATED:20180123T031316Z
LAST-MODIFIED:20180123T031316Z
UID:9358-1516608000-1516640400@jennys-sewing-studio.com
SUMMARY:Nateson
DESCRIPTION:Share this:\n				Email a link to a friend (Opens in new window)\n				Email\n			\n				Print (Opens in new window)\n				Print\n			TweetLike this:Like Loading...
URL:https://jennys-sewing-studio.com/event/nateson-3/
END:VEVENT
BEGIN:VEVENT
DTSTART;TZID=America/New_York:20180122T080000
DTEND;TZID=America/New_York:20180122T170000
DTSTAMP:20260421T003211
CREATED:20180122T163609Z
LAST-MODIFIED:20180122T163609Z
UID:9333-1516608000-1516640400@jennys-sewing-studio.com
SUMMARY:Quick Trip Quilt class
DESCRIPTION:I had a great time teaching the Quick Trip Quilt to Ashley and Betty Lou. Both had never sewn before so the whole process of picking the fabrics\, using the machine and sewing the 1/4″ seams was new. Grandmother and great grand daughter did a great job. The class only allowed enough time to cut and piece the quilt top\, so I hope to see them come back to finish the quilting. \n  \nShare this:\n				Email a link to a friend (Opens in new window)\n				Email\n			\n				Print (Opens in new window)\n				Print\n			TweetLike this:Like Loading...
URL:https://jennys-sewing-studio.com/event/quick-trip-quilt-class/
CATEGORIES:quick trip quilt
END:VEVENT
BEGIN:VEVENT
DTSTART;TZID=America/New_York:20180122T070000
DTEND;TZID=America/New_York:20180122T100000
DTSTAMP:20260421T003211
CREATED:20171230T163051Z
LAST-MODIFIED:20171230T163051Z
UID:9262-1516604400-1516615200@jennys-sewing-studio.com
SUMMARY:Eye Surgery -TU
DESCRIPTION:Eye Surgery -TU \nShare this:\n				Email a link to a friend (Opens in new window)\n				Email\n			\n				Print (Opens in new window)\n				Print\n			TweetLike this:Like Loading...
URL:https://jennys-sewing-studio.com/event/eye-surgery-tu/
END:VEVENT
END:VCALENDAR