BEGIN:VCALENDAR
VERSION:2.0
PRODID:-//Jenny&#039;s Sewing Studio - ECPv6.15.20//NONSGML v1.0//EN
CALSCALE:GREGORIAN
METHOD:PUBLISH
X-ORIGINAL-URL:https://jennys-sewing-studio.com
X-WR-CALDESC:Events for Jenny&#039;s Sewing Studio
REFRESH-INTERVAL;VALUE=DURATION:PT1H
X-Robots-Tag:noindex
X-PUBLISHED-TTL:PT1H
BEGIN:VTIMEZONE
TZID:America/New_York
BEGIN:DAYLIGHT
TZOFFSETFROM:-0500
TZOFFSETTO:-0400
TZNAME:EDT
DTSTART:20160313T070000
END:DAYLIGHT
BEGIN:STANDARD
TZOFFSETFROM:-0400
TZOFFSETTO:-0500
TZNAME:EST
DTSTART:20161106T060000
END:STANDARD
BEGIN:DAYLIGHT
TZOFFSETFROM:-0500
TZOFFSETTO:-0400
TZNAME:EDT
DTSTART:20170312T070000
END:DAYLIGHT
BEGIN:STANDARD
TZOFFSETFROM:-0400
TZOFFSETTO:-0500
TZNAME:EST
DTSTART:20171105T060000
END:STANDARD
BEGIN:DAYLIGHT
TZOFFSETFROM:-0500
TZOFFSETTO:-0400
TZNAME:EDT
DTSTART:20180311T070000
END:DAYLIGHT
BEGIN:STANDARD
TZOFFSETFROM:-0400
TZOFFSETTO:-0500
TZNAME:EST
DTSTART:20181104T060000
END:STANDARD
BEGIN:DAYLIGHT
TZOFFSETFROM:-0500
TZOFFSETTO:-0400
TZNAME:EDT
DTSTART:20190310T070000
END:DAYLIGHT
BEGIN:STANDARD
TZOFFSETFROM:-0400
TZOFFSETTO:-0500
TZNAME:EST
DTSTART:20191103T060000
END:STANDARD
END:VTIMEZONE
BEGIN:VEVENT
DTSTART;TZID=America/New_York:20180123T075000
DTEND;TZID=America/New_York:20180123T120000
DTSTAMP:20260421T183555
CREATED:20171230T163212Z
LAST-MODIFIED:20180122T222416Z
UID:9264-1516693800-1516708800@jennys-sewing-studio.com
SUMMARY:Eye Surgery -TU
DESCRIPTION:Eye Surgery -TU followup \nShare this:\n				Email a link to a friend (Opens in new window)\n				Email\n			\n				Print (Opens in new window)\n				Print\n			TweetLike this:Like Loading...
URL:https://jennys-sewing-studio.com/event/eye-surgery-tu-2/
CATEGORIES:Doctors
END:VEVENT
BEGIN:VEVENT
DTSTART;TZID=America/New_York:20180122T080000
DTEND;TZID=America/New_York:20180122T170000
DTSTAMP:20260421T183555
CREATED:20180123T031316Z
LAST-MODIFIED:20180123T031316Z
UID:9358-1516608000-1516640400@jennys-sewing-studio.com
SUMMARY:Nateson
DESCRIPTION:Share this:\n				Email a link to a friend (Opens in new window)\n				Email\n			\n				Print (Opens in new window)\n				Print\n			TweetLike this:Like Loading...
URL:https://jennys-sewing-studio.com/event/nateson-3/
END:VEVENT
BEGIN:VEVENT
DTSTART;TZID=America/New_York:20180122T080000
DTEND;TZID=America/New_York:20180122T170000
DTSTAMP:20260421T183555
CREATED:20180122T163609Z
LAST-MODIFIED:20180122T163609Z
UID:9333-1516608000-1516640400@jennys-sewing-studio.com
SUMMARY:Quick Trip Quilt class
DESCRIPTION:I had a great time teaching the Quick Trip Quilt to Ashley and Betty Lou. Both had never sewn before so the whole process of picking the fabrics\, using the machine and sewing the 1/4″ seams was new. Grandmother and great grand daughter did a great job. The class only allowed enough time to cut and piece the quilt top\, so I hope to see them come back to finish the quilting. \n  \nShare this:\n				Email a link to a friend (Opens in new window)\n				Email\n			\n				Print (Opens in new window)\n				Print\n			TweetLike this:Like Loading...
URL:https://jennys-sewing-studio.com/event/quick-trip-quilt-class/
CATEGORIES:quick trip quilt
END:VEVENT
BEGIN:VEVENT
DTSTART;TZID=America/New_York:20180122T070000
DTEND;TZID=America/New_York:20180122T100000
DTSTAMP:20260421T183555
CREATED:20171230T163051Z
LAST-MODIFIED:20171230T163051Z
UID:9262-1516604400-1516615200@jennys-sewing-studio.com
SUMMARY:Eye Surgery -TU
DESCRIPTION:Eye Surgery -TU \nShare this:\n				Email a link to a friend (Opens in new window)\n				Email\n			\n				Print (Opens in new window)\n				Print\n			TweetLike this:Like Loading...
URL:https://jennys-sewing-studio.com/event/eye-surgery-tu/
END:VEVENT
BEGIN:VEVENT
DTSTART;TZID=America/New_York:20180121T133000
DTEND;TZID=America/New_York:20180121T163000
DTSTAMP:20260421T183555
CREATED:20180112T044453Z
LAST-MODIFIED:20180112T044645Z
UID:9301-1516541400-1516552200@jennys-sewing-studio.com
SUMMARY:Quick Quilt
DESCRIPTION:Quick Quilt \nShare this:\n				Email a link to a friend (Opens in new window)\n				Email\n			\n				Print (Opens in new window)\n				Print\n			TweetLike this:Like Loading...
URL:https://jennys-sewing-studio.com/event/quick-quilt-3/
CATEGORIES:quick trip quilt
END:VEVENT
BEGIN:VEVENT
DTSTART;VALUE=DATE:20180117
DTEND;VALUE=DATE:20180118
DTSTAMP:20260421T183555
CREATED:20171230T160656Z
LAST-MODIFIED:20171230T162426Z
UID:9247-1516147200-1516233599@jennys-sewing-studio.com
SUMMARY:Futura class Christen Streetman
DESCRIPTION:Futura class Christen Streetman \nShare this:\n				Email a link to a friend (Opens in new window)\n				Email\n			\n				Print (Opens in new window)\n				Print\n			TweetLike this:Like Loading...
URL:https://jennys-sewing-studio.com/event/futura-class-christen-streetman/
CATEGORIES:Singer Futura seminar
END:VEVENT
BEGIN:VEVENT
DTSTART;TZID=America/New_York:20180115T133000
DTEND;TZID=America/New_York:20180115T153000
DTSTAMP:20260421T183555
CREATED:20171230T162915Z
LAST-MODIFIED:20171230T162915Z
UID:9260-1516023000-1516030200@jennys-sewing-studio.com
SUMMARY:Dr Passeri
DESCRIPTION:Dr Passeri \nShare this:\n				Email a link to a friend (Opens in new window)\n				Email\n			\n				Print (Opens in new window)\n				Print\n			TweetLike this:Like Loading...
URL:https://jennys-sewing-studio.com/event/dr-passeri/
END:VEVENT
BEGIN:VEVENT
DTSTART;TZID=America/New_York:20180114T133000
DTEND;TZID=America/New_York:20180114T170000
DTSTAMP:20260421T183555
CREATED:20171230T161623Z
LAST-MODIFIED:20171230T161623Z
UID:9255-1515936600-1515949200@jennys-sewing-studio.com
SUMMARY:Quick Quilt
DESCRIPTION:Quick Quilt \nShare this:\n				Email a link to a friend (Opens in new window)\n				Email\n			\n				Print (Opens in new window)\n				Print\n			TweetLike this:Like Loading...
URL:https://jennys-sewing-studio.com/event/quick-quilt-2/
CATEGORIES:quick trip quilt
END:VEVENT
BEGIN:VEVENT
DTSTART;TZID=America/New_York:20180113T140000
DTEND;TZID=America/New_York:20180113T170000
DTSTAMP:20260421T183555
CREATED:20171230T162756Z
LAST-MODIFIED:20171230T162756Z
UID:9258-1515852000-1515862800@jennys-sewing-studio.com
SUMMARY:Senior Social
DESCRIPTION:Senior Social \nShare this:\n				Email a link to a friend (Opens in new window)\n				Email\n			\n				Print (Opens in new window)\n				Print\n			TweetLike this:Like Loading...
URL:https://jennys-sewing-studio.com/event/senior-social-4/
END:VEVENT
BEGIN:VEVENT
DTSTART;TZID=America/New_York:20180110T103000
DTEND;TZID=America/New_York:20180110T123000
DTSTAMP:20260421T183555
CREATED:20171230T160951Z
LAST-MODIFIED:20171230T160951Z
UID:9249-1515580200-1515587400@jennys-sewing-studio.com
SUMMARY:Dr Forno
DESCRIPTION:Dr Forno \nShare this:\n				Email a link to a friend (Opens in new window)\n				Email\n			\n				Print (Opens in new window)\n				Print\n			TweetLike this:Like Loading...
URL:https://jennys-sewing-studio.com/event/dr-forno/
END:VEVENT
BEGIN:VEVENT
DTSTART;TZID=America/New_York:20180107T133000
DTEND;TZID=America/New_York:20180107T170000
DTSTAMP:20260421T183555
CREATED:20171230T161503Z
LAST-MODIFIED:20171230T162530Z
UID:9253-1515331800-1515344400@jennys-sewing-studio.com
SUMMARY:Quick Quilt
DESCRIPTION:Quick Quilt \nShare this:\n				Email a link to a friend (Opens in new window)\n				Email\n			\n				Print (Opens in new window)\n				Print\n			TweetLike this:Like Loading...
URL:https://jennys-sewing-studio.com/event/quick-quilt/
CATEGORIES:quick trip quilt
END:VEVENT
BEGIN:VEVENT
DTSTART;TZID=America/New_York:20180102T133000
DTEND;TZID=America/New_York:20180102T143000
DTSTAMP:20260421T183555
CREATED:20171230T161244Z
LAST-MODIFIED:20171230T161244Z
UID:9251-1514899800-1514903400@jennys-sewing-studio.com
SUMMARY:Kim
DESCRIPTION:Kim – Mom \nShare this:\n				Email a link to a friend (Opens in new window)\n				Email\n			\n				Print (Opens in new window)\n				Print\n			TweetLike this:Like Loading...
URL:https://jennys-sewing-studio.com/event/kim-2/
END:VEVENT
BEGIN:VEVENT
DTSTART;TZID=America/New_York:20180101T123000
DTEND;TZID=America/New_York:20180101T170000
DTSTAMP:20260421T183555
CREATED:20171104T213004Z
LAST-MODIFIED:20171104T213049Z
UID:9085-1514809800-1514826000@jennys-sewing-studio.com
SUMMARY:Bridge Party
DESCRIPTION:Bridge Party \nShare this:\n				Email a link to a friend (Opens in new window)\n				Email\n			\n				Print (Opens in new window)\n				Print\n			TweetLike this:Like Loading...
URL:https://jennys-sewing-studio.com/event/bridge-party/
END:VEVENT
BEGIN:VEVENT
DTSTART;TZID=America/New_York:20171231T180000
DTEND;TZID=America/New_York:20171231T180000
DTSTAMP:20260421T183555
CREATED:20171104T212806Z
LAST-MODIFIED:20171104T212907Z
UID:9083-1514743200-1514743200@jennys-sewing-studio.com
SUMMARY:New years eve card game
DESCRIPTION:New years eve card game \nShare this:\n				Email a link to a friend (Opens in new window)\n				Email\n			\n				Print (Opens in new window)\n				Print\n			TweetLike this:Like Loading...
URL:https://jennys-sewing-studio.com/event/new-years-eve-card-game/
END:VEVENT
BEGIN:VEVENT
DTSTART;TZID=America/New_York:20171227T143000
DTEND;TZID=America/New_York:20171227T170000
DTSTAMP:20260421T183555
CREATED:20171031T225010Z
LAST-MODIFIED:20171031T225010Z
UID:9064-1514385000-1514394000@jennys-sewing-studio.com
SUMMARY:Dr IM
DESCRIPTION:Dr IM \nShare this:\n				Email a link to a friend (Opens in new window)\n				Email\n			\n				Print (Opens in new window)\n				Print\n			TweetLike this:Like Loading...
URL:https://jennys-sewing-studio.com/event/dr-im-2/
END:VEVENT
BEGIN:VEVENT
DTSTART;TZID=America/New_York:20171223T130000
DTEND;TZID=America/New_York:20171223T170000
DTSTAMP:20260421T183555
CREATED:20171104T212703Z
LAST-MODIFIED:20171104T212703Z
UID:9081-1514034000-1514048400@jennys-sewing-studio.com
SUMMARY:23 Christmas
DESCRIPTION:23 Christmas \nShare this:\n				Email a link to a friend (Opens in new window)\n				Email\n			\n				Print (Opens in new window)\n				Print\n			TweetLike this:Like Loading...
URL:https://jennys-sewing-studio.com/event/23-christmas/
END:VEVENT
BEGIN:VEVENT
DTSTART;TZID=America/New_York:20171220T193000
DTEND;TZID=America/New_York:20171220T203000
DTSTAMP:20260421T183555
CREATED:20171104T212332Z
LAST-MODIFIED:20171104T212332Z
UID:9079-1513798200-1513801800@jennys-sewing-studio.com
SUMMARY:Advent
DESCRIPTION:Advent \nShare this:\n				Email a link to a friend (Opens in new window)\n				Email\n			\n				Print (Opens in new window)\n				Print\n			TweetLike this:Like Loading...
URL:https://jennys-sewing-studio.com/event/advent-4/
END:VEVENT
BEGIN:VEVENT
DTSTART;TZID=America/New_York:20171213T080000
DTEND;TZID=America/New_York:20171213T170000
DTSTAMP:20260421T183555
CREATED:20171104T212214Z
LAST-MODIFIED:20171104T212214Z
UID:9077-1513152000-1513184400@jennys-sewing-studio.com
SUMMARY:Advent
DESCRIPTION:Advent \nShare this:\n				Email a link to a friend (Opens in new window)\n				Email\n			\n				Print (Opens in new window)\n				Print\n			TweetLike this:Like Loading...
URL:https://jennys-sewing-studio.com/event/advent-3/
END:VEVENT
BEGIN:VEVENT
DTSTART;TZID=America/New_York:20171211T131500
DTEND;TZID=America/New_York:20171211T170000
DTSTAMP:20260421T183555
CREATED:20170830T132942Z
LAST-MODIFIED:20170830T132942Z
UID:8889-1512998100-1513011600@jennys-sewing-studio.com
SUMMARY:Natesan
DESCRIPTION:Natesan \nShare this:\n				Email a link to a friend (Opens in new window)\n				Email\n			\n				Print (Opens in new window)\n				Print\n			TweetLike this:Like Loading...
URL:https://jennys-sewing-studio.com/event/natesan/
END:VEVENT
BEGIN:VEVENT
DTSTART;TZID=America/New_York:20171206T193000
DTEND;TZID=America/New_York:20171206T193000
DTSTAMP:20260421T183555
CREATED:20171104T212107Z
LAST-MODIFIED:20171104T212107Z
UID:9075-1512588600-1512588600@jennys-sewing-studio.com
SUMMARY:Advent
DESCRIPTION:Advent \nShare this:\n				Email a link to a friend (Opens in new window)\n				Email\n			\n				Print (Opens in new window)\n				Print\n			TweetLike this:Like Loading...
URL:https://jennys-sewing-studio.com/event/advent-2/
END:VEVENT
BEGIN:VEVENT
DTSTART;TZID=America/New_York:20171205T113000
DTEND;TZID=America/New_York:20171205T123000
DTSTAMP:20260421T183555
CREATED:20170830T132659Z
LAST-MODIFIED:20170830T132659Z
UID:8887-1512473400-1512477000@jennys-sewing-studio.com
SUMMARY:Vertiel
DESCRIPTION:Vertiel \nShare this:\n				Email a link to a friend (Opens in new window)\n				Email\n			\n				Print (Opens in new window)\n				Print\n			TweetLike this:Like Loading...
URL:https://jennys-sewing-studio.com/event/vertiel-4/
END:VEVENT
BEGIN:VEVENT
DTSTART;TZID=America/New_York:20171204T110000
DTEND;TZID=America/New_York:20171204T120000
DTSTAMP:20260421T183555
CREATED:20170910T050512Z
LAST-MODIFIED:20170910T050512Z
UID:8901-1512385200-1512388800@jennys-sewing-studio.com
SUMMARY:Passeri
DESCRIPTION:Passeri \nShare this:\n				Email a link to a friend (Opens in new window)\n				Email\n			\n				Print (Opens in new window)\n				Print\n			TweetLike this:Like Loading...
URL:https://jennys-sewing-studio.com/event/passeri-6/
END:VEVENT
BEGIN:VEVENT
DTSTART;TZID=America/New_York:20171129T190000
DTEND;TZID=America/New_York:20171129T210000
DTSTAMP:20260421T183555
CREATED:20171104T211239Z
LAST-MODIFIED:20171104T211239Z
UID:9071-1511982000-1511989200@jennys-sewing-studio.com
SUMMARY:Mahjong
DESCRIPTION:Mahjong \nShare this:\n				Email a link to a friend (Opens in new window)\n				Email\n			\n				Print (Opens in new window)\n				Print\n			TweetLike this:Like Loading...
URL:https://jennys-sewing-studio.com/event/mahjong/
END:VEVENT
BEGIN:VEVENT
DTSTART;TZID=America/New_York:20171129T123000
DTEND;TZID=America/New_York:20171129T170000
DTSTAMP:20260421T183555
CREATED:20171104T211620Z
LAST-MODIFIED:20171104T211620Z
UID:9073-1511958600-1511974800@jennys-sewing-studio.com
SUMMARY:Advent
DESCRIPTION:Advent \nShare this:\n				Email a link to a friend (Opens in new window)\n				Email\n			\n				Print (Opens in new window)\n				Print\n			TweetLike this:Like Loading...
URL:https://jennys-sewing-studio.com/event/advent/
END:VEVENT
BEGIN:VEVENT
DTSTART;TZID=America/New_York:20171120T133000
DTEND;TZID=America/New_York:20171120T163000
DTSTAMP:20260421T183555
CREATED:20171114T045652Z
LAST-MODIFIED:20171114T045652Z
UID:9126-1511184600-1511195400@jennys-sewing-studio.com
SUMMARY:Cassie - continue sewing
DESCRIPTION:Cassie-continue sewing \nShare this:\n				Email a link to a friend (Opens in new window)\n				Email\n			\n				Print (Opens in new window)\n				Print\n			TweetLike this:Like Loading...
URL:https://jennys-sewing-studio.com/event/cassie-continue-sewing/
CATEGORIES:continue sewing
END:VEVENT
BEGIN:VEVENT
DTSTART;TZID=America/New_York:20171111T133000
DTEND;TZID=America/New_York:20171111T163000
DTSTAMP:20260421T183555
CREATED:20171031T224103Z
LAST-MODIFIED:20171031T224116Z
UID:9057-1510407000-1510417800@jennys-sewing-studio.com
SUMMARY:Beginner sewing- Maria
DESCRIPTION:Beginner sewing – Maria \nShare this:\n				Email a link to a friend (Opens in new window)\n				Email\n			\n				Print (Opens in new window)\n				Print\n			TweetLike this:Like Loading...
URL:https://jennys-sewing-studio.com/event/beginner-sewing-maria-2/
CATEGORIES:Beginner Sewing Class
END:VEVENT
BEGIN:VEVENT
DTSTART;TZID=America/New_York:20171108T133000
DTEND;TZID=America/New_York:20171108T163000
DTSTAMP:20260421T183555
CREATED:20171031T223940Z
LAST-MODIFIED:20171031T223940Z
UID:9055-1510147800-1510158600@jennys-sewing-studio.com
SUMMARY:Beginner sewing- Maria
DESCRIPTION:Beginner sewing – Maria \nShare this:\n				Email a link to a friend (Opens in new window)\n				Email\n			\n				Print (Opens in new window)\n				Print\n			TweetLike this:Like Loading...
URL:https://jennys-sewing-studio.com/event/beginner-sewing-maria/
CATEGORIES:Beginner Sewing Class
END:VEVENT
BEGIN:VEVENT
DTSTART;TZID=America/New_York:20171106T133000
DTEND;TZID=America/New_York:20171106T163000
DTSTAMP:20260421T183555
CREATED:20171031T224441Z
LAST-MODIFIED:20171031T224441Z
UID:9060-1509975000-1509985800@jennys-sewing-studio.com
SUMMARY:Beginner sewing Cassie
DESCRIPTION:Beginner sewing-Cassie \nShare this:\n				Email a link to a friend (Opens in new window)\n				Email\n			\n				Print (Opens in new window)\n				Print\n			TweetLike this:Like Loading...
URL:https://jennys-sewing-studio.com/event/beginner-sewing-cassie/
CATEGORIES:Beginner Sewing Class
END:VEVENT
BEGIN:VEVENT
DTSTART;TZID=America/New_York:20171104T190000
DTEND;TZID=America/New_York:20171104T210000
DTSTAMP:20260421T183555
CREATED:20171104T211108Z
LAST-MODIFIED:20171104T211108Z
UID:9069-1509822000-1509829200@jennys-sewing-studio.com
SUMMARY:Bridge
DESCRIPTION:Bridge \nShare this:\n				Email a link to a friend (Opens in new window)\n				Email\n			\n				Print (Opens in new window)\n				Print\n			TweetLike this:Like Loading...
URL:https://jennys-sewing-studio.com/event/bridge/
END:VEVENT
BEGIN:VEVENT
DTSTART;TZID=America/New_York:20171031T080000
DTEND;TZID=America/New_York:20171031T170000
DTSTAMP:20260421T183555
CREATED:20171031T224627Z
LAST-MODIFIED:20171031T224627Z
UID:9062-1509436800-1509469200@jennys-sewing-studio.com
SUMMARY:Hand surgery
DESCRIPTION:Hand surgery \nShare this:\n				Email a link to a friend (Opens in new window)\n				Email\n			\n				Print (Opens in new window)\n				Print\n			TweetLike this:Like Loading...
URL:https://jennys-sewing-studio.com/event/hand-surgery/
END:VEVENT
END:VCALENDAR