BEGIN:VCALENDAR
VERSION:2.0
PRODID:-//Jenny&#039;s Sewing Studio - ECPv6.15.20//NONSGML v1.0//EN
CALSCALE:GREGORIAN
METHOD:PUBLISH
X-WR-CALNAME:Jenny&#039;s Sewing Studio
X-ORIGINAL-URL:https://jennys-sewing-studio.com
X-WR-CALDESC:Events for Jenny&#039;s Sewing Studio
REFRESH-INTERVAL;VALUE=DURATION:PT1H
X-Robots-Tag:noindex
X-PUBLISHED-TTL:PT1H
BEGIN:VTIMEZONE
TZID:America/New_York
BEGIN:DAYLIGHT
TZOFFSETFROM:-0500
TZOFFSETTO:-0400
TZNAME:EDT
DTSTART:20150308T070000
END:DAYLIGHT
BEGIN:STANDARD
TZOFFSETFROM:-0400
TZOFFSETTO:-0500
TZNAME:EST
DTSTART:20151101T060000
END:STANDARD
BEGIN:DAYLIGHT
TZOFFSETFROM:-0500
TZOFFSETTO:-0400
TZNAME:EDT
DTSTART:20160313T070000
END:DAYLIGHT
BEGIN:STANDARD
TZOFFSETFROM:-0400
TZOFFSETTO:-0500
TZNAME:EST
DTSTART:20161106T060000
END:STANDARD
BEGIN:DAYLIGHT
TZOFFSETFROM:-0500
TZOFFSETTO:-0400
TZNAME:EDT
DTSTART:20170312T070000
END:DAYLIGHT
BEGIN:STANDARD
TZOFFSETFROM:-0400
TZOFFSETTO:-0500
TZNAME:EST
DTSTART:20171105T060000
END:STANDARD
BEGIN:DAYLIGHT
TZOFFSETFROM:-0500
TZOFFSETTO:-0400
TZNAME:EDT
DTSTART:20180311T070000
END:DAYLIGHT
BEGIN:STANDARD
TZOFFSETFROM:-0400
TZOFFSETTO:-0500
TZNAME:EST
DTSTART:20181104T060000
END:STANDARD
END:VTIMEZONE
BEGIN:VEVENT
DTSTART;TZID=America/New_York:20170411T141500
DTEND;TZID=America/New_York:20170411T170000
DTSTAMP:20260423T165121
CREATED:20170312T130153Z
LAST-MODIFIED:20170312T130153Z
UID:8374-1491920100-1491930000@jennys-sewing-studio.com
SUMMARY:Asbury- mom
DESCRIPTION:Asbury- mom \nShare this:\n				Email a link to a friend (Opens in new window)\n				Email\n			\n				Print (Opens in new window)\n				Print\n			TweetLike this:Like Loading...
URL:https://jennys-sewing-studio.com/event/asbury-mom/
END:VEVENT
BEGIN:VEVENT
DTSTART;TZID=America/New_York:20170326T133000
DTEND;TZID=America/New_York:20170326T163000
DTSTAMP:20260423T165121
CREATED:20170312T130338Z
LAST-MODIFIED:20170312T130338Z
UID:8376-1490535000-1490545800@jennys-sewing-studio.com
SUMMARY:Chris - continue
DESCRIPTION:Chris Continue \nShare this:\n				Email a link to a friend (Opens in new window)\n				Email\n			\n				Print (Opens in new window)\n				Print\n			TweetLike this:Like Loading...
URL:https://jennys-sewing-studio.com/event/chris-continue-4/
END:VEVENT
BEGIN:VEVENT
DTSTART;TZID=America/New_York:20170319T133000
DTEND;TZID=America/New_York:20170319T163000
DTSTAMP:20260423T165121
CREATED:20170304T145543Z
LAST-MODIFIED:20170304T145543Z
UID:8347-1489930200-1489941000@jennys-sewing-studio.com
SUMMARY:Chris - continue
DESCRIPTION:Chris – continue \nShare this:\n				Email a link to a friend (Opens in new window)\n				Email\n			\n				Print (Opens in new window)\n				Print\n			TweetLike this:Like Loading...
URL:https://jennys-sewing-studio.com/event/chris-continue-3/
CATEGORIES:continue sewing
END:VEVENT
BEGIN:VEVENT
DTSTART;TZID=America/New_York:20170312T133000
DTEND;TZID=America/New_York:20170312T163000
DTSTAMP:20260423T165121
CREATED:20170304T145410Z
LAST-MODIFIED:20170304T145410Z
UID:8345-1489325400-1489336200@jennys-sewing-studio.com
SUMMARY:Chris - continue
DESCRIPTION:Chris – continue \nShare this:\n				Email a link to a friend (Opens in new window)\n				Email\n			\n				Print (Opens in new window)\n				Print\n			TweetLike this:Like Loading...
URL:https://jennys-sewing-studio.com/event/chris-continue-2/
CATEGORIES:continue sewing
END:VEVENT
BEGIN:VEVENT
DTSTART;TZID=America/New_York:20170310T150000
DTEND;TZID=America/New_York:20170310T170000
DTSTAMP:20260423T165121
CREATED:20170304T150405Z
LAST-MODIFIED:20170304T150405Z
UID:8355-1489158000-1489165200@jennys-sewing-studio.com
SUMMARY:Kelley breathing
DESCRIPTION:Kelley breathing \nShare this:\n				Email a link to a friend (Opens in new window)\n				Email\n			\n				Print (Opens in new window)\n				Print\n			TweetLike this:Like Loading...
URL:https://jennys-sewing-studio.com/event/kelley-breathing/
END:VEVENT
BEGIN:VEVENT
DTSTART;TZID=America/New_York:20170309T100000
DTEND;TZID=America/New_York:20170309T170000
DTSTAMP:20260423T165121
CREATED:20170304T145746Z
LAST-MODIFIED:20170304T145746Z
UID:8349-1489053600-1489078800@jennys-sewing-studio.com
SUMMARY:Valerie Futura
DESCRIPTION:Valerie Futura \nShare this:\n				Email a link to a friend (Opens in new window)\n				Email\n			\n				Print (Opens in new window)\n				Print\n			TweetLike this:Like Loading...
URL:https://jennys-sewing-studio.com/event/valerie-futura/
CATEGORIES:Singer Futura seminar
END:VEVENT
BEGIN:VEVENT
DTSTART;TZID=America/New_York:20170307T143000
DTEND;TZID=America/New_York:20170307T150000
DTSTAMP:20260423T165121
CREATED:20170304T150220Z
LAST-MODIFIED:20170304T150220Z
UID:8353-1488897000-1488898800@jennys-sewing-studio.com
SUMMARY:Noreen hair
DESCRIPTION:Noreen hair \nShare this:\n				Email a link to a friend (Opens in new window)\n				Email\n			\n				Print (Opens in new window)\n				Print\n			TweetLike this:Like Loading...
URL:https://jennys-sewing-studio.com/event/noreen-hair/
END:VEVENT
BEGIN:VEVENT
DTSTART;TZID=America/New_York:20170307T121500
DTEND;TZID=America/New_York:20170307T123000
DTSTAMP:20260423T165121
CREATED:20170304T145918Z
LAST-MODIFIED:20170304T145918Z
UID:8351-1488888900-1488889800@jennys-sewing-studio.com
SUMMARY:Vertiel
DESCRIPTION:Vertiel \nShare this:\n				Email a link to a friend (Opens in new window)\n				Email\n			\n				Print (Opens in new window)\n				Print\n			TweetLike this:Like Loading...
URL:https://jennys-sewing-studio.com/event/vertiel-3/
END:VEVENT
BEGIN:VEVENT
DTSTART;TZID=America/New_York:20170306T133000
DTEND;TZID=America/New_York:20170306T163000
DTSTAMP:20260423T165121
CREATED:20170224T033811Z
LAST-MODIFIED:20170224T033811Z
UID:8314-1488807000-1488817800@jennys-sewing-studio.com
SUMMARY:Pillow class Keyanna
DESCRIPTION:Pillow class Keyanna \nShare this:\n				Email a link to a friend (Opens in new window)\n				Email\n			\n				Print (Opens in new window)\n				Print\n			TweetLike this:Like Loading...
URL:https://jennys-sewing-studio.com/event/pillow-class-keyanna/
CATEGORIES:pillows
END:VEVENT
BEGIN:VEVENT
DTSTART;TZID=America/New_York:20170305T133000
DTEND;TZID=America/New_York:20170305T163000
DTSTAMP:20260423T165121
CREATED:20170304T145224Z
LAST-MODIFIED:20170304T145224Z
UID:8342-1488720600-1488731400@jennys-sewing-studio.com
SUMMARY:Chris - continue
DESCRIPTION:Chris – continue \nShare this:\n				Email a link to a friend (Opens in new window)\n				Email\n			\n				Print (Opens in new window)\n				Print\n			TweetLike this:Like Loading...
URL:https://jennys-sewing-studio.com/event/chris-continue/
CATEGORIES:continue sewing
END:VEVENT
BEGIN:VEVENT
DTSTART;VALUE=DATE:20170302
DTEND;VALUE=DATE:20170303
DTSTAMP:20260423T165121
CREATED:20170227T145731Z
LAST-MODIFIED:20170227T145731Z
UID:8335-1488412800-1488499199@jennys-sewing-studio.com
SUMMARY:Patricia Futura
DESCRIPTION:Patricia Futura \nShare this:\n				Email a link to a friend (Opens in new window)\n				Email\n			\n				Print (Opens in new window)\n				Print\n			TweetLike this:Like Loading...
URL:https://jennys-sewing-studio.com/event/patricia-futura/
CATEGORIES:Singer Futura seminar
END:VEVENT
BEGIN:VEVENT
DTSTART;VALUE=DATE:20170220
DTEND;VALUE=DATE:20170228
DTSTAMP:20260423T165121
CREATED:20170204T205727Z
LAST-MODIFIED:20170204T205727Z
UID:8274-1487548800-1488239999@jennys-sewing-studio.com
SUMMARY:Mom's Birthday celebration Feb 20 till February 27th
DESCRIPTION:Mom’s Birthday celebration Feb 20 till February 27th \nShare this:\n				Email a link to a friend (Opens in new window)\n				Email\n			\n				Print (Opens in new window)\n				Print\n			TweetLike this:Like Loading...
URL:https://jennys-sewing-studio.com/event/moms-birthday-celebration-feb-20-till-february-27th/
END:VEVENT
BEGIN:VEVENT
DTSTART;VALUE=DATE:20170218
DTEND;VALUE=DATE:20170219
DTSTAMP:20260423T165121
CREATED:20170204T205009Z
LAST-MODIFIED:20170204T205009Z
UID:8264-1487376000-1487462399@jennys-sewing-studio.com
SUMMARY:Futura seminar Leigh Ruth
DESCRIPTION:Futura seminar Leigh Ruth \nShare this:\n				Email a link to a friend (Opens in new window)\n				Email\n			\n				Print (Opens in new window)\n				Print\n			TweetLike this:Like Loading...
URL:https://jennys-sewing-studio.com/event/futura-seminar-leigh-ruth/
CATEGORIES:Singer Futura seminar
END:VEVENT
BEGIN:VEVENT
DTSTART;TZID=America/New_York:20170214T140000
DTEND;TZID=America/New_York:20170214T170000
DTSTAMP:20260423T165121
CREATED:20170204T205308Z
LAST-MODIFIED:20170204T205308Z
UID:8268-1487080800-1487091600@jennys-sewing-studio.com
SUMMARY:Passeri
DESCRIPTION:Passeri \nShare this:\n				Email a link to a friend (Opens in new window)\n				Email\n			\n				Print (Opens in new window)\n				Print\n			TweetLike this:Like Loading...
URL:https://jennys-sewing-studio.com/event/passeri-2/
END:VEVENT
BEGIN:VEVENT
DTSTART;TZID=America/New_York:20170212T133000
DTEND;TZID=America/New_York:20170212T163000
DTSTAMP:20260423T165121
CREATED:20170204T205540Z
LAST-MODIFIED:20170204T205540Z
UID:8272-1486906200-1486917000@jennys-sewing-studio.com
SUMMARY:Continue Sewing - Chris
DESCRIPTION:Continue Sewing – Chris \nShare this:\n				Email a link to a friend (Opens in new window)\n				Email\n			\n				Print (Opens in new window)\n				Print\n			TweetLike this:Like Loading...
URL:https://jennys-sewing-studio.com/event/continue-sewing-chris-2/
CATEGORIES:continue sewing
END:VEVENT
BEGIN:VEVENT
DTSTART;TZID=America/New_York:20170211T140000
DTEND;TZID=America/New_York:20170211T160000
DTSTAMP:20260423T165121
CREATED:20170204T205126Z
LAST-MODIFIED:20170204T205126Z
UID:8266-1486821600-1486828800@jennys-sewing-studio.com
SUMMARY:Senior Social
DESCRIPTION:Senior Social \nShare this:\n				Email a link to a friend (Opens in new window)\n				Email\n			\n				Print (Opens in new window)\n				Print\n			TweetLike this:Like Loading...
URL:https://jennys-sewing-studio.com/event/senior-social-3/
END:VEVENT
BEGIN:VEVENT
DTSTART;VALUE=DATE:20170209
DTEND;VALUE=DATE:20170210
DTSTAMP:20260423T165121
CREATED:20170204T205916Z
LAST-MODIFIED:20170204T205916Z
UID:8276-1486598400-1486684799@jennys-sewing-studio.com
SUMMARY:Jim's Birthday
DESCRIPTION:Jim’s Birthday \nShare this:\n				Email a link to a friend (Opens in new window)\n				Email\n			\n				Print (Opens in new window)\n				Print\n			TweetLike this:Like Loading...
URL:https://jennys-sewing-studio.com/event/jims-birthday/
END:VEVENT
BEGIN:VEVENT
DTSTART;TZID=America/New_York:20170205T133000
DTEND;TZID=America/New_York:20170205T163000
DTSTAMP:20260423T165121
CREATED:20170204T205438Z
LAST-MODIFIED:20170204T205438Z
UID:8270-1486301400-1486312200@jennys-sewing-studio.com
SUMMARY:Continue Sewing - Chris
DESCRIPTION:Continue Sewing – Chris \nShare this:\n				Email a link to a friend (Opens in new window)\n				Email\n			\n				Print (Opens in new window)\n				Print\n			TweetLike this:Like Loading...
URL:https://jennys-sewing-studio.com/event/continue-sewing-chris/
CATEGORIES:continue sewing
END:VEVENT
BEGIN:VEVENT
DTSTART;TZID=America/New_York:20170129T013000
DTEND;TZID=America/New_York:20170129T163000
DTSTAMP:20260423T165121
CREATED:20161212T012646Z
LAST-MODIFIED:20161212T012646Z
UID:8087-1485653400-1485707400@jennys-sewing-studio.com
SUMMARY:Continue sew - Chris
DESCRIPTION:Continue sew – Chris \nShare this:\n				Email a link to a friend (Opens in new window)\n				Email\n			\n				Print (Opens in new window)\n				Print\n			TweetLike this:Like Loading...
URL:https://jennys-sewing-studio.com/event/continue-sew-chris-7/
CATEGORIES:continue sewing
END:VEVENT
BEGIN:VEVENT
DTSTART;TZID=America/New_York:20170122T013000
DTEND;TZID=America/New_York:20170122T163000
DTSTAMP:20260423T165121
CREATED:20161212T012453Z
LAST-MODIFIED:20161212T012541Z
UID:8085-1485048600-1485102600@jennys-sewing-studio.com
SUMMARY:Continue sew - Chris
DESCRIPTION:Continue sew – Chris \nShare this:\n				Email a link to a friend (Opens in new window)\n				Email\n			\n				Print (Opens in new window)\n				Print\n			TweetLike this:Like Loading...
URL:https://jennys-sewing-studio.com/event/continue-sew-chris-6/
CATEGORIES:continue sewing
END:VEVENT
BEGIN:VEVENT
DTSTART;VALUE=DATE:20170119
DTEND;VALUE=DATE:20170120
DTSTAMP:20260423T165121
CREATED:20161206T153240Z
LAST-MODIFIED:20161206T153338Z
UID:7963-1484784000-1484870399@jennys-sewing-studio.com
SUMMARY:Futura - Emily Echola
DESCRIPTION:Futura – Emily Echola \nShare this:\n				Email a link to a friend (Opens in new window)\n				Email\n			\n				Print (Opens in new window)\n				Print\n			TweetLike this:Like Loading...
URL:https://jennys-sewing-studio.com/event/futura-emily-echola/
CATEGORIES:Singer Futura seminar
END:VEVENT
BEGIN:VEVENT
DTSTART;TZID=America/New_York:20170116T013000
DTEND;TZID=America/New_York:20170116T163000
DTSTAMP:20260423T165121
CREATED:20161206T154152Z
LAST-MODIFIED:20170103T053218Z
UID:7975-1484530200-1484584200@jennys-sewing-studio.com
SUMMARY:Chris lesson
DESCRIPTION:chris \nShare this:\n				Email a link to a friend (Opens in new window)\n				Email\n			\n				Print (Opens in new window)\n				Print\n			TweetLike this:Like Loading...
URL:https://jennys-sewing-studio.com/event/pen-image/
CATEGORIES:continue sewing
END:VEVENT
BEGIN:VEVENT
DTSTART;TZID=America/New_York:20170115T013000
DTEND;TZID=America/New_York:20170115T163000
DTSTAMP:20260423T165121
CREATED:20161212T012329Z
LAST-MODIFIED:20161212T012413Z
UID:8083-1484443800-1484497800@jennys-sewing-studio.com
SUMMARY:Continue sew - Chris
DESCRIPTION:Continue sew – Chris \nShare this:\n				Email a link to a friend (Opens in new window)\n				Email\n			\n				Print (Opens in new window)\n				Print\n			TweetLike this:Like Loading...
URL:https://jennys-sewing-studio.com/event/continue-sew-chris-5/
CATEGORIES:continue sewing
END:VEVENT
BEGIN:VEVENT
DTSTART;TZID=America/New_York:20170114T013000
DTEND;TZID=America/New_York:20170114T163000
DTSTAMP:20260423T165121
CREATED:20161206T153036Z
LAST-MODIFIED:20170103T000756Z
UID:7960-1484357400-1484411400@jennys-sewing-studio.com
SUMMARY:3 hour session - Jessica Lewis
DESCRIPTION:3 hour session – Jessica Lewis \nShare this:\n				Email a link to a friend (Opens in new window)\n				Email\n			\n				Print (Opens in new window)\n				Print\n			TweetLike this:Like Loading...
URL:https://jennys-sewing-studio.com/event/3-hour-session-jessica-lewis/
CATEGORIES:Beginner Sewing Class
END:VEVENT
BEGIN:VEVENT
DTSTART;TZID=America/New_York:20170108T013000
DTEND;TZID=America/New_York:20170108T163000
DTSTAMP:20260423T165121
CREATED:20161212T012204Z
LAST-MODIFIED:20161212T012254Z
UID:8081-1483839000-1483893000@jennys-sewing-studio.com
SUMMARY:Continue sew - Chris
DESCRIPTION:Continue sew – Chris \nShare this:\n				Email a link to a friend (Opens in new window)\n				Email\n			\n				Print (Opens in new window)\n				Print\n			TweetLike this:Like Loading...
URL:https://jennys-sewing-studio.com/event/continue-sew-chris-4/
CATEGORIES:continue sewing
END:VEVENT
BEGIN:VEVENT
DTSTART;TZID=America/New_York:20170101T013000
DTEND;TZID=America/New_York:20170101T163000
DTSTAMP:20260423T165121
CREATED:20161212T012031Z
LAST-MODIFIED:20161212T012125Z
UID:8079-1483234200-1483288200@jennys-sewing-studio.com
SUMMARY:Continue sew - Chris
DESCRIPTION:Continue sew – Chris \nShare this:\n				Email a link to a friend (Opens in new window)\n				Email\n			\n				Print (Opens in new window)\n				Print\n			TweetLike this:Like Loading...
URL:https://jennys-sewing-studio.com/event/continue-sew-chris-3/
CATEGORIES:continue sewing
END:VEVENT
BEGIN:VEVENT
DTSTART;TZID=America/New_York:20161229T013000
DTEND;TZID=America/New_York:20161229T163000
DTSTAMP:20260423T165121
CREATED:20161212T011731Z
LAST-MODIFIED:20161212T011844Z
UID:8077-1482975000-1483029000@jennys-sewing-studio.com
SUMMARY:Continue sew - Chris
DESCRIPTION:Continue sew – Chris \nShare this:\n				Email a link to a friend (Opens in new window)\n				Email\n			\n				Print (Opens in new window)\n				Print\n			TweetLike this:Like Loading...
URL:https://jennys-sewing-studio.com/event/continue-sew-chris-2/
CATEGORIES:continue sewing
END:VEVENT
BEGIN:VEVENT
DTSTART;TZID=America/New_York:20161228T070000
DTEND;TZID=America/New_York:20161228T210000
DTSTAMP:20260423T165121
CREATED:20161215T155635Z
LAST-MODIFIED:20161217T010733Z
UID:8094-1482908400-1482958800@jennys-sewing-studio.com
SUMMARY:Carol Party
DESCRIPTION:Carol Party \nShare this:\n				Email a link to a friend (Opens in new window)\n				Email\n			\n				Print (Opens in new window)\n				Print\n			TweetLike this:Like Loading...
URL:https://jennys-sewing-studio.com/event/carol-party/
END:VEVENT
BEGIN:VEVENT
DTSTART;TZID=America/New_York:20161227T013000
DTEND;TZID=America/New_York:20161227T153000
DTSTAMP:20260423T165121
CREATED:20161110T031428Z
LAST-MODIFIED:20161215T155151Z
UID:7897-1482802200-1482852600@jennys-sewing-studio.com
SUMMARY:Serger instruction - Doris
DESCRIPTION:Serger instruction – Doris \nShare this:\n				Email a link to a friend (Opens in new window)\n				Email\n			\n				Print (Opens in new window)\n				Print\n			TweetLike this:Like Loading...
URL:https://jennys-sewing-studio.com/event/serger-instruction-doris/
CATEGORIES:Sewing Machine Instruction
END:VEVENT
BEGIN:VEVENT
DTSTART;TZID=America/New_York:20161222T013000
DTEND;TZID=America/New_York:20161222T163000
DTSTAMP:20260423T165121
CREATED:20161206T152832Z
LAST-MODIFIED:20161212T011553Z
UID:7957-1482370200-1482424200@jennys-sewing-studio.com
SUMMARY:Continue sew - Chris
DESCRIPTION:Continue sew – Chris \nShare this:\n				Email a link to a friend (Opens in new window)\n				Email\n			\n				Print (Opens in new window)\n				Print\n			TweetLike this:Like Loading...
URL:https://jennys-sewing-studio.com/event/continue-sew-chris/
CATEGORIES:continue sewing
END:VEVENT
END:VCALENDAR